BEGIN:VCALENDAR
VERSION:2.0
PRODID:-//Livable Raleigh - ECPv6.15.20//NONSGML v1.0//EN
CALSCALE:GREGORIAN
METHOD:PUBLISH
X-WR-CALNAME:Livable Raleigh
X-ORIGINAL-URL:https://livableraleigh.com
X-WR-CALDESC:Events for Livable Raleigh
REFRESH-INTERVAL;VALUE=DURATION:PT1H
X-Robots-Tag:noindex
X-PUBLISHED-TTL:PT1H
BEGIN:VTIMEZONE
TZID:America/New_York
BEGIN:DAYLIGHT
TZOFFSETFROM:-0500
TZOFFSETTO:-0400
TZNAME:EDT
DTSTART:20240310T070000
END:DAYLIGHT
BEGIN:STANDARD
TZOFFSETFROM:-0400
TZOFFSETTO:-0500
TZNAME:EST
DTSTART:20241103T060000
END:STANDARD
BEGIN:DAYLIGHT
TZOFFSETFROM:-0500
TZOFFSETTO:-0400
TZNAME:EDT
DTSTART:20250309T070000
END:DAYLIGHT
BEGIN:STANDARD
TZOFFSETFROM:-0400
TZOFFSETTO:-0500
TZNAME:EST
DTSTART:20251102T060000
END:STANDARD
BEGIN:DAYLIGHT
TZOFFSETFROM:-0500
TZOFFSETTO:-0400
TZNAME:EDT
DTSTART:20260308T070000
END:DAYLIGHT
BEGIN:STANDARD
TZOFFSETFROM:-0400
TZOFFSETTO:-0500
TZNAME:EST
DTSTART:20261101T060000
END:STANDARD
END:VTIMEZONE
BEGIN:VEVENT
DTSTART;TZID=America/New_York:20250129T123000
DTEND;TZID=America/New_York:20250129T143000
DTSTAMP:20260419T130638
CREATED:20250125T132234Z
LAST-MODIFIED:20250125T132234Z
UID:43197-1738153800-1738161000@livableraleigh.com
SUMMARY:Job Fair for New North Carolinians!
DESCRIPTION:Career opportunities and cultural exchange for new North Carolinians!\nAre you a newcomer looking for job opportunities in Raleigh? Join us at our job fair for new North Carolinians and connect with local employers who value your talents and experience. \nExplore career opportunities\, network with employers\, access valuable community resources and meet organizations that support refugees. \nThanks to our event partners\, the U.S. Committee for Refugees and Immigrants\, Lutheran Services Carolinas\, and Amplio Recruiting! There will be free food\, snacks\, and parking! \nFor more information or questions\, call or email\, coeprogram@raleighnc.gov\nEnglish: 919-996-2118\nSpanish: 919-996-2120 \nLocation: Method Community Center\nAges: 18 and up\nCost: Free\n*No Register Required
URL:https://livableraleigh.com/event/job-fair-for-new-north-carolinians/
LOCATION:Method Road Community Center\, 514 Method Road\, Raleigh\, NC\, United States
CATEGORIES:Parks & Rec
END:VEVENT
END:VCALENDAR