BEGIN:VCALENDAR
VERSION:2.0
PRODID:-//Livable Raleigh - ECPv6.15.20//NONSGML v1.0//EN
CALSCALE:GREGORIAN
METHOD:PUBLISH
X-WR-CALNAME:Livable Raleigh
X-ORIGINAL-URL:https://livableraleigh.com
X-WR-CALDESC:Events for Livable Raleigh
REFRESH-INTERVAL;VALUE=DURATION:PT1H
X-Robots-Tag:noindex
X-PUBLISHED-TTL:PT1H
BEGIN:VTIMEZONE
TZID:America/New_York
BEGIN:DAYLIGHT
TZOFFSETFROM:-0500
TZOFFSETTO:-0400
TZNAME:EDT
DTSTART:20240310T070000
END:DAYLIGHT
BEGIN:STANDARD
TZOFFSETFROM:-0400
TZOFFSETTO:-0500
TZNAME:EST
DTSTART:20241103T060000
END:STANDARD
BEGIN:DAYLIGHT
TZOFFSETFROM:-0500
TZOFFSETTO:-0400
TZNAME:EDT
DTSTART:20250309T070000
END:DAYLIGHT
BEGIN:STANDARD
TZOFFSETFROM:-0400
TZOFFSETTO:-0500
TZNAME:EST
DTSTART:20251102T060000
END:STANDARD
BEGIN:DAYLIGHT
TZOFFSETFROM:-0500
TZOFFSETTO:-0400
TZNAME:EDT
DTSTART:20260308T070000
END:DAYLIGHT
BEGIN:STANDARD
TZOFFSETFROM:-0400
TZOFFSETTO:-0500
TZNAME:EST
DTSTART:20261101T060000
END:STANDARD
END:VTIMEZONE
BEGIN:VEVENT
DTSTART;TZID=America/New_York:20250120T120000
DTEND;TZID=America/New_York:20250120T150000
DTSTAMP:20260419T130801
CREATED:20241128T150635Z
LAST-MODIFIED:20241128T150635Z
UID:42528-1737374400-1737385200@livableraleigh.com
SUMMARY:Celebrate Dr. Martin Luther King Jr.'s Legacy at Chavis Park
DESCRIPTION:John Chavis Memorial Park presents King Day\nA Celebration of Dr. Martin Luther King\, Jr. on Monday\, Jan. 20\, from 12 – 3 p.m. This event will celebrate Dr. King’s life through service\, children’s activities\, and more! \nLocation: John Chavis Memorial Park\nAge: All\nCost: Free
URL:https://livableraleigh.com/event/celebrate-dr-martin-luther-king-jr-s-legacy-at-chavis-park/
LOCATION:John Chavis Community Center\, 505 Martin Luther King Jr. Blvd.\, Raleigh\, NC\, 27601\, United States
CATEGORIES:Parks & Rec
END:VEVENT
END:VCALENDAR