BEGIN:VCALENDAR
VERSION:2.0
PRODID:-//Livable Raleigh - ECPv6.15.20//NONSGML v1.0//EN
CALSCALE:GREGORIAN
METHOD:PUBLISH
X-WR-CALNAME:Livable Raleigh
X-ORIGINAL-URL:https://livableraleigh.com
X-WR-CALDESC:Events for Livable Raleigh
REFRESH-INTERVAL;VALUE=DURATION:PT1H
X-Robots-Tag:noindex
X-PUBLISHED-TTL:PT1H
BEGIN:VTIMEZONE
TZID:America/New_York
BEGIN:DAYLIGHT
TZOFFSETFROM:-0500
TZOFFSETTO:-0400
TZNAME:EDT
DTSTART:20240310T070000
END:DAYLIGHT
BEGIN:STANDARD
TZOFFSETFROM:-0400
TZOFFSETTO:-0500
TZNAME:EST
DTSTART:20241103T060000
END:STANDARD
BEGIN:DAYLIGHT
TZOFFSETFROM:-0500
TZOFFSETTO:-0400
TZNAME:EDT
DTSTART:20250309T070000
END:DAYLIGHT
BEGIN:STANDARD
TZOFFSETFROM:-0400
TZOFFSETTO:-0500
TZNAME:EST
DTSTART:20251102T060000
END:STANDARD
BEGIN:DAYLIGHT
TZOFFSETFROM:-0500
TZOFFSETTO:-0400
TZNAME:EDT
DTSTART:20260308T070000
END:DAYLIGHT
BEGIN:STANDARD
TZOFFSETFROM:-0400
TZOFFSETTO:-0500
TZNAME:EST
DTSTART:20261101T060000
END:STANDARD
END:VTIMEZONE
BEGIN:VEVENT
DTSTART;TZID=America/New_York:20250116T120000
DTEND;TZID=America/New_York:20250116T130000
DTSTAMP:20260419T174621
CREATED:20250111T154356Z
LAST-MODIFIED:20250111T154356Z
UID:42954-1737028800-1737032400@livableraleigh.com
SUMMARY:Lunchbox Lecture with Oakwood Cemetery
DESCRIPTION:Feed your belly and your brain!\nBring your lunch to the City of Raleigh Museum and listen to a captivating lecture every third Thursday of the month. Lectures will run for 30 minutes and topics vary each month. \nOakwood Cemetery is known as a Cemetery Full of Life.  But what makes it so? Join the City of Raleigh Museum to discover the stories behind the stones\, as well as how this active burial space operates as a museum! You’ll learn about some of the Cemetery’s well-loved “residents\,”\, uncover long-buried stories\, and honor heroes resting under the oaks—talk presented by Oakwood Cemetery Executive Director Robin Simonton. \nLocation: City of Raleigh Museum\nAges: All\nCost: Free
URL:https://livableraleigh.com/event/lunchbox-lecture-with-oakwood-cemetery/
LOCATION:City of Raleigh Museum\, 220 Fayetteville St\, Raleigh\, NC\, 27601
CATEGORIES:Parks & Rec
END:VEVENT
END:VCALENDAR