BEGIN:VCALENDAR
VERSION:2.0
PRODID:-//Livable Raleigh - ECPv6.15.20//NONSGML v1.0//EN
CALSCALE:GREGORIAN
METHOD:PUBLISH
X-ORIGINAL-URL:https://livableraleigh.com
X-WR-CALDESC:Events for Livable Raleigh
REFRESH-INTERVAL;VALUE=DURATION:PT1H
X-Robots-Tag:noindex
X-PUBLISHED-TTL:PT1H
BEGIN:VTIMEZONE
TZID:America/New_York
BEGIN:DAYLIGHT
TZOFFSETFROM:-0500
TZOFFSETTO:-0400
TZNAME:EDT
DTSTART:20240310T070000
END:DAYLIGHT
BEGIN:STANDARD
TZOFFSETFROM:-0400
TZOFFSETTO:-0500
TZNAME:EST
DTSTART:20241103T060000
END:STANDARD
BEGIN:DAYLIGHT
TZOFFSETFROM:-0500
TZOFFSETTO:-0400
TZNAME:EDT
DTSTART:20250309T070000
END:DAYLIGHT
BEGIN:STANDARD
TZOFFSETFROM:-0400
TZOFFSETTO:-0500
TZNAME:EST
DTSTART:20251102T060000
END:STANDARD
BEGIN:DAYLIGHT
TZOFFSETFROM:-0500
TZOFFSETTO:-0400
TZNAME:EDT
DTSTART:20260308T070000
END:DAYLIGHT
BEGIN:STANDARD
TZOFFSETFROM:-0400
TZOFFSETTO:-0500
TZNAME:EST
DTSTART:20261101T060000
END:STANDARD
END:VTIMEZONE
BEGIN:VEVENT
DTSTART;TZID=America/New_York:20250104T090000
DTEND;TZID=America/New_York:20250104T110000
DTSTAMP:20260419T143922
CREATED:20241214T021922Z
LAST-MODIFIED:20241214T021922Z
UID:42690-1735981200-1735988400@livableraleigh.com
SUMMARY:Emancipation Day Breakfast
DESCRIPTION:Join us for a hot breakfast while learning about Anna Julia Cooper\, an advocate for women’s rights\, education\, and civil rights.\nLectures presented by Dr. Shirley Moody-Turner tickets cost $20 each\, with half of the proceeds supporting the Turner Historic House Museum. This program is supported in part by North Carolina Humanities\, the state affiliate of the National Endowment for the Humanities\, www.nchumanities.org \nLocation: City of Raleigh MuseumDate: Saturday\, Jan. 4Time: 9 – 11 a.m.Ages: AllCost: $20 per personEmancipation Day Breakfast Tickets
URL:https://livableraleigh.com/event/emancipation-day-breakfast/
LOCATION:City of Raleigh Museum\, 220 Fayetteville St\, Raleigh\, NC\, 27601
CATEGORIES:Parks & Rec
END:VEVENT
BEGIN:VEVENT
DTSTART;TZID=America/New_York:20250104T100000
DTEND;TZID=America/New_York:20250104T160000
DTSTAMP:20260419T143922
CREATED:20241128T013723Z
LAST-MODIFIED:20241128T013723Z
UID:42486-1735984800-1736006400@livableraleigh.com
SUMMARY:‘Bottom Rail on Top’: Black Civil War Reenactors
DESCRIPTION:Step back in time and immerse yourself in the powerful stories of Black soldiers who shaped American history.\nJoin us for an unforgettable event where the United States Colored Troops and their allies bring to life the courageous men who fought for freedom\, both on the front lines and in the camps. Hear their incredible stories of bravery\, sacrifice\, and resilience\, and gain a deeper understanding of their pivotal role in shaping our nation’s past. \nBest of all\, this inspiring event is completely free! Don’t miss this opportunity to witness history come alive—bring your friends and family and be a part of this meaningful experience. \nThis program is supported in part by North Carolina Humanities\, the state affiliate of the National Endowment for the Humanities\, www.nchumanities.org \nLocation: Pope House Museum\nAge: All\nCost: Free\nNo Registration Required
URL:https://livableraleigh.com/event/bottom-rail-on-top-black-civil-war-reenactors/
LOCATION:Pope House Museum\, 511 S Wilmington Street\, Raleigh\, NC\, 27601
CATEGORIES:Parks & Rec
END:VEVENT
BEGIN:VEVENT
DTSTART;TZID=America/New_York:20250104T120000
DTEND;TZID=America/New_York:20250104T150000
DTSTAMP:20260419T143922
CREATED:20241128T013825Z
LAST-MODIFIED:20241128T013825Z
UID:42488-1735992000-1736002800@livableraleigh.com
SUMMARY:Emancipation Day Trolley: Oberlin Village Tour
DESCRIPTION:Located on the outskirts of Raleigh\, Oberlin Village was a vibrant African American community established after the Civil War.\nCelebrate Emancipation Day by joining local historian Carmen Wimberly Cauthen and Historic Turner House Foundation director Cheryl Williams for a guided tour of Oberlin Village. \nThis program is supported in part by North Carolina Humanities\, the state affiliate of the National Endowment for the Humanities\, www.nchumanities.org \nLocation: Pope House Museum\nAge: All\nCost: $4 for Children / $10 for Adults
URL:https://livableraleigh.com/event/emancipation-day-trolley-oberlin-village-tour/
LOCATION:Pope House Museum\, 511 S Wilmington Street\, Raleigh\, NC\, 27601
CATEGORIES:Parks & Rec
END:VEVENT
BEGIN:VEVENT
DTSTART;TZID=America/New_York:20250104T180000
DTEND;TZID=America/New_York:20250104T200000
DTSTAMP:20260419T143922
CREATED:20241128T014003Z
LAST-MODIFIED:20241128T014003Z
UID:42490-1736013600-1736020800@livableraleigh.com
SUMMARY:Music of Freedom
DESCRIPTION:Don’t miss the grand finale of our Emancipation Day celebration: Music of Freedom!\nJoin us for an inspiring evening of classical music performed by the talented Strings of Color\, as they honor the abolitionists whose contributions to music played a vital role in the fight for freedom. This is a unique opportunity to experience powerful music while learning about the courageous individuals who helped shape our nation’s history. \nBest of all\, this unforgettable event is completely free! Bring your friends and family for an evening of history\, music\, and inspiration you won’t want to miss. This program is supported in part by North Carolina Humanities\, the state affiliate of the National Endowment for the Humanities\, www.nchumanities.org \nLocation:  City of Raleigh Museum\nAge: All\nCost: Free\nNo Registration Required
URL:https://livableraleigh.com/event/music-of-freedom/
LOCATION:City of Raleigh Museum\, 220 Fayetteville St\, Raleigh\, NC\, 27601
CATEGORIES:Parks & Rec
END:VEVENT
END:VCALENDAR