BEGIN:VCALENDAR
VERSION:2.0
PRODID:-//Livable Raleigh - ECPv6.15.20//NONSGML v1.0//EN
CALSCALE:GREGORIAN
METHOD:PUBLISH
X-ORIGINAL-URL:https://livableraleigh.com
X-WR-CALDESC:Events for Livable Raleigh
REFRESH-INTERVAL;VALUE=DURATION:PT1H
X-Robots-Tag:noindex
X-PUBLISHED-TTL:PT1H
BEGIN:VTIMEZONE
TZID:America/New_York
BEGIN:DAYLIGHT
TZOFFSETFROM:-0500
TZOFFSETTO:-0400
TZNAME:EDT
DTSTART:20230312T070000
END:DAYLIGHT
BEGIN:STANDARD
TZOFFSETFROM:-0400
TZOFFSETTO:-0500
TZNAME:EST
DTSTART:20231105T060000
END:STANDARD
BEGIN:DAYLIGHT
TZOFFSETFROM:-0500
TZOFFSETTO:-0400
TZNAME:EDT
DTSTART:20240310T070000
END:DAYLIGHT
BEGIN:STANDARD
TZOFFSETFROM:-0400
TZOFFSETTO:-0500
TZNAME:EST
DTSTART:20241103T060000
END:STANDARD
BEGIN:DAYLIGHT
TZOFFSETFROM:-0500
TZOFFSETTO:-0400
TZNAME:EDT
DTSTART:20250309T070000
END:DAYLIGHT
BEGIN:STANDARD
TZOFFSETFROM:-0400
TZOFFSETTO:-0500
TZNAME:EST
DTSTART:20251102T060000
END:STANDARD
END:VTIMEZONE
BEGIN:VEVENT
DTSTART;TZID=America/New_York:20241214T100000
DTEND;TZID=America/New_York:20241214T120000
DTSTAMP:20260419T191156
CREATED:20241128T013033Z
LAST-MODIFIED:20241128T013033Z
UID:42479-1734170400-1734177600@livableraleigh.com
SUMMARY:Annual Toys From Teens Event
DESCRIPTION:The Raleigh Youth Council is Hosting the Annual Toys From Teens!\nThis event is for families with children from birth to 12 years. Participants will create festive crafts\, meet Santa\, and receive a gift (while supplies last). A child must be present to receive a gift. \nLocation: Roberts Park Community Center\nAges: 0 to 12 years old\nCost: Free (Registration will be available at the event)\nRegister on RecLink
URL:https://livableraleigh.com/event/annual-toys-from-teens-event/
LOCATION:Roberts Park Community Center\, 1300 E. Martin St\, Raleigh\, NC\, 27610
CATEGORIES:Parks & Rec
END:VEVENT
BEGIN:VEVENT
DTSTART;TZID=America/New_York:20241214T100000
DTEND;TZID=America/New_York:20241214T160000
DTSTAMP:20260419T191156
CREATED:20241115T172154Z
LAST-MODIFIED:20241121T125751Z
UID:42342-1734170400-1734192000@livableraleigh.com
SUMMARY:Holiday Open House - Mordecai Park
DESCRIPTION:Join us at the annual Holiday Open House at Mordecai Historic Park!\nSee how the Mordecai House would have been decorated over the past 239 years and learn about different holiday traditions. Walk through the beautifully decorated house and enjoy music\, discover historic artifacts\, and more. \nOn Saturday\, December 14\, do some holiday shopping at the Merry and Bright: A North Pole Market! Visit our vendors to find unique gifts\, create festive crafts\, and sample food vendors. Enjoy seasonal entertainment and stop by a cooking demonstration in our historic kitchen. Visit Paper and Stars Studio’s Eventbrite page to register and receive event updates. For more information\, call the Mordecai Historic Park Visitor Center at 919-996-4364. \nAges: AllCost: Free \n\n\nAssociated
URL:https://livableraleigh.com/event/holiday-open-house-3/
LOCATION:Mordecai Historic Park\, 1 Mimosa St\, Raleigh\, NC\, 27604
CATEGORIES:Parks & Rec
END:VEVENT
BEGIN:VEVENT
DTSTART;TZID=America/New_York:20241214T170000
DTEND;TZID=America/New_York:20241214T190000
DTSTAMP:20260419T191156
CREATED:20241115T172257Z
LAST-MODIFIED:20241115T172257Z
UID:42344-1734195600-1734202800@livableraleigh.com
SUMMARY:Santa's Trolley
DESCRIPTION:Help Santa on this special Historic Raleigh Trolley Tour! \nSanta is lost in Raleigh and Holly the Elf needs your help to find him in time for Christmas! New this year\, arrive up to 30 minutes early or stay after your tour to make a s’more!The trolley leaves from Mordecai Historic Park at 1 Mimosa St in Raleigh. Advance registration is required. For more information\, call the Mordecai Historic Park Visitor Center at 919-996-4364. \nLocation: Mordecai Historic ParkTimes: 5 p.m.\, 6 p.m.\, 7 p.m.Cost: $15Ages: AllRegister on RecLink
URL:https://livableraleigh.com/event/santas-trolley-2/
LOCATION:Mordecai Historic Park\, 1 Mimosa St\, Raleigh\, NC\, 27604
CATEGORIES:Parks & Rec
END:VEVENT
END:VCALENDAR