BEGIN:VCALENDAR
VERSION:2.0
PRODID:-//Livable Raleigh - ECPv6.15.20//NONSGML v1.0//EN
CALSCALE:GREGORIAN
METHOD:PUBLISH
X-WR-CALNAME:Livable Raleigh
X-ORIGINAL-URL:https://livableraleigh.com
X-WR-CALDESC:Events for Livable Raleigh
REFRESH-INTERVAL;VALUE=DURATION:PT1H
X-Robots-Tag:noindex
X-PUBLISHED-TTL:PT1H
BEGIN:VTIMEZONE
TZID:America/New_York
BEGIN:DAYLIGHT
TZOFFSETFROM:-0500
TZOFFSETTO:-0400
TZNAME:EDT
DTSTART:20230312T070000
END:DAYLIGHT
BEGIN:STANDARD
TZOFFSETFROM:-0400
TZOFFSETTO:-0500
TZNAME:EST
DTSTART:20231105T060000
END:STANDARD
BEGIN:DAYLIGHT
TZOFFSETFROM:-0500
TZOFFSETTO:-0400
TZNAME:EDT
DTSTART:20240310T070000
END:DAYLIGHT
BEGIN:STANDARD
TZOFFSETFROM:-0400
TZOFFSETTO:-0500
TZNAME:EST
DTSTART:20241103T060000
END:STANDARD
BEGIN:DAYLIGHT
TZOFFSETFROM:-0500
TZOFFSETTO:-0400
TZNAME:EDT
DTSTART:20250309T070000
END:DAYLIGHT
BEGIN:STANDARD
TZOFFSETFROM:-0400
TZOFFSETTO:-0500
TZNAME:EST
DTSTART:20251102T060000
END:STANDARD
END:VTIMEZONE
BEGIN:VEVENT
DTSTART;TZID=America/New_York:20241207T100000
DTEND;TZID=America/New_York:20241207T120000
DTSTAMP:20260419T174604
CREATED:20241123T012955Z
LAST-MODIFIED:20241123T012955Z
UID:42424-1733565600-1733572800@livableraleigh.com
SUMMARY:Santa's Workshop and Toy Drive
DESCRIPTION:The holiday season is here!\nCome join the Raleigh Youth Council at Abbotts Creek Community Center for your personal tour through Santa’s workshop! \nEnjoy Art and Craft Activities\, Festive Music\, and a picture with a very special visitor! In addition\, please help put a smile on a child’s face by donating a new toy for children in need. Toy donations are optional but much appreciated. \nLocation: Abbotts Creek ParkAge: Families with children 0 to 12 yearsCost: FreeRegister on RecLink
URL:https://livableraleigh.com/event/santas-workshop-and-toy-drive/
LOCATION:Abbotts Creek Community Center\, 9950 Durant Rd\, Raleigh\, NC\, 27614
CATEGORIES:Parks & Rec
END:VEVENT
BEGIN:VEVENT
DTSTART;TZID=America/New_York:20241207T110000
DTEND;TZID=America/New_York:20241207T150000
DTSTAMP:20260419T174604
CREATED:20241123T013221Z
LAST-MODIFIED:20241123T013221Z
UID:42428-1733569200-1733583600@livableraleigh.com
SUMMARY:Celebrate the Holidays at Moore Square
DESCRIPTION:Join us at Moore Square for special performances\, games for the kids\, food trucks\, craft beer\, and mulled wine\, and meet Santa Claus from 11 a.m. – 3 p.m. \nCaroling teams will compete and help raise money for the Wake Tech Community College Foundation’s Fostering Bright Futures Program. \nLocation: Moore SquareAges: AllCost: Free
URL:https://livableraleigh.com/event/celebrate-the-holidays-at-moore-square/
LOCATION:Moore Square\, 200 S. Blount St.\, Raleigh\, NC\, 27601
CATEGORIES:Parks & Rec
END:VEVENT
BEGIN:VEVENT
DTSTART;TZID=America/New_York:20241207T130000
DTEND;TZID=America/New_York:20241207T150000
DTSTAMP:20260419T174604
CREATED:20241115T171907Z
LAST-MODIFIED:20241115T171907Z
UID:42338-1733576400-1733583600@livableraleigh.com
SUMMARY:Gingerbread and a Jolly Trolley Ride!
DESCRIPTION:Welcome to the holiday season!\nDecorate a gingerbread house inspired by Raleigh’s historic sites! This family-friendly program will take you to two historic locations in Raleigh. Meet at Fred Fletcher Park and take a trolley ride to Latta University Historic Park to explore its history. Then\, ride the trolley back to Borden Building at Fletcher Park to build your own gingerbread house inspired by the Latta house. Each registrant will have their own gingerbread house\, and decorating supplies will be provided.Location: Fred Fletcher ParkAges: 5+Cost: $15
URL:https://livableraleigh.com/event/gingerbread-and-a-jolly-trolley-ride/
LOCATION:Fred Fletcher Park\, 820 Clay St\, Raleigh\, NC\, 27605
CATEGORIES:Parks & Rec
END:VEVENT
END:VCALENDAR