BEGIN:VCALENDAR
VERSION:2.0
PRODID:-//Livable Raleigh - ECPv6.15.20//NONSGML v1.0//EN
CALSCALE:GREGORIAN
METHOD:PUBLISH
X-WR-CALNAME:Livable Raleigh
X-ORIGINAL-URL:https://livableraleigh.com
X-WR-CALDESC:Events for Livable Raleigh
REFRESH-INTERVAL;VALUE=DURATION:PT1H
X-Robots-Tag:noindex
X-PUBLISHED-TTL:PT1H
BEGIN:VTIMEZONE
TZID:America/New_York
BEGIN:DAYLIGHT
TZOFFSETFROM:-0500
TZOFFSETTO:-0400
TZNAME:EDT
DTSTART:20230312T070000
END:DAYLIGHT
BEGIN:STANDARD
TZOFFSETFROM:-0400
TZOFFSETTO:-0500
TZNAME:EST
DTSTART:20231105T060000
END:STANDARD
BEGIN:DAYLIGHT
TZOFFSETFROM:-0500
TZOFFSETTO:-0400
TZNAME:EDT
DTSTART:20240310T070000
END:DAYLIGHT
BEGIN:STANDARD
TZOFFSETFROM:-0400
TZOFFSETTO:-0500
TZNAME:EST
DTSTART:20241103T060000
END:STANDARD
BEGIN:DAYLIGHT
TZOFFSETFROM:-0500
TZOFFSETTO:-0400
TZNAME:EDT
DTSTART:20250309T070000
END:DAYLIGHT
BEGIN:STANDARD
TZOFFSETFROM:-0400
TZOFFSETTO:-0500
TZNAME:EST
DTSTART:20251102T060000
END:STANDARD
END:VTIMEZONE
BEGIN:VEVENT
DTSTART;TZID=America/New_York:20241206T100000
DTEND;TZID=America/New_York:20241206T113000
DTSTAMP:20260419T174606
CREATED:20241103T151405Z
LAST-MODIFIED:20241103T151405Z
UID:42205-1733479200-1733484600@livableraleigh.com
SUMMARY:Reindeer Rodeo at Abbotts Creek
DESCRIPTION:It’s the most wonderful time of the year for the Reindeer Rodeo!\nBring your little one for a fun-filled morning of crafts\, games\, and treats. Participants are free to drop in anytime during the event. Please allow 30-45 minutes to rotate through different craft stations. Pre-registration is required for each participant. See you at the Rodeo! \nLocation: Abbotts Creek Community CenterAges: 3-6Cost: $7Register on RecLink
URL:https://livableraleigh.com/event/reindeer-rodeo-at-abbotts-creek/
LOCATION:Abbotts Creek Community Center\, 9950 Durant Rd\, Raleigh\, NC\, 27614
CATEGORIES:Parks & Rec
END:VEVENT
BEGIN:VEVENT
DTSTART;TZID=America/New_York:20241206T173000
DTEND;TZID=America/New_York:20241206T210000
DTSTAMP:20260419T174606
CREATED:20241123T012840Z
LAST-MODIFIED:20241123T012840Z
UID:42422-1733506200-1733518800@livableraleigh.com
SUMMARY:Sip and Shop
DESCRIPTION:Join the Friends of the City of Raleigh Museum for our free annual holiday Sip and Shop event from 5:30 to 9 p.m. at the museum.\nBrowse gift options from a variety of vendors\, including local artists\, craftspeople\, creators\, makers\, and more\, while sipping a festive cocktail or mocktail and listening to holiday music. \nParticipants will be entered into a raffle for a family four-pack of tickets to the hottest event in town – the Holiday Express at Pullen Park! Admission is free and includes the opportunity to explore the museum’s exhibits\, but we ask that you register on Eventbrite.Location: City of Raleigh MuseumAge: AllCost: FreeRegistration is Encouraged
URL:https://livableraleigh.com/event/sip-and-shop/
LOCATION:City of Raleigh Museum\, 220 Fayetteville St\, Raleigh\, NC\, 27601
CATEGORIES:Parks & Rec
END:VEVENT
BEGIN:VEVENT
DTSTART;TZID=America/New_York:20241206T180000
DTEND;TZID=America/New_York:20241206T203000
DTSTAMP:20260419T174606
CREATED:20241103T151509Z
LAST-MODIFIED:20241103T151509Z
UID:42207-1733508000-1733517000@livableraleigh.com
SUMMARY:Gingerbread Decorating Party
DESCRIPTION:Join DJ Young Fresh Prince for a festive bash filled with cookie decorating\, awesome tunes\, and endless fun! \nBring your creativity and your dancing shoes—let’s make some sweet memories together!Location: Green Road ParkAges: AllCost: Free
URL:https://livableraleigh.com/event/gingerbread-decorating-party-2/
LOCATION:Green Rd Community Center\, 4201 Green Rd\, Raleigh\, NC\, 27604
CATEGORIES:Parks & Rec
END:VEVENT
END:VCALENDAR