BEGIN:VCALENDAR
VERSION:2.0
PRODID:-//Livable Raleigh - ECPv6.15.20//NONSGML v1.0//EN
CALSCALE:GREGORIAN
METHOD:PUBLISH
X-ORIGINAL-URL:https://livableraleigh.com
X-WR-CALDESC:Events for Livable Raleigh
REFRESH-INTERVAL;VALUE=DURATION:PT1H
X-Robots-Tag:noindex
X-PUBLISHED-TTL:PT1H
BEGIN:VTIMEZONE
TZID:America/New_York
BEGIN:DAYLIGHT
TZOFFSETFROM:-0500
TZOFFSETTO:-0400
TZNAME:EDT
DTSTART:20230312T070000
END:DAYLIGHT
BEGIN:STANDARD
TZOFFSETFROM:-0400
TZOFFSETTO:-0500
TZNAME:EST
DTSTART:20231105T060000
END:STANDARD
BEGIN:DAYLIGHT
TZOFFSETFROM:-0500
TZOFFSETTO:-0400
TZNAME:EDT
DTSTART:20240310T070000
END:DAYLIGHT
BEGIN:STANDARD
TZOFFSETFROM:-0400
TZOFFSETTO:-0500
TZNAME:EST
DTSTART:20241103T060000
END:STANDARD
BEGIN:DAYLIGHT
TZOFFSETFROM:-0500
TZOFFSETTO:-0400
TZNAME:EDT
DTSTART:20250309T070000
END:DAYLIGHT
BEGIN:STANDARD
TZOFFSETFROM:-0400
TZOFFSETTO:-0500
TZNAME:EST
DTSTART:20251102T060000
END:STANDARD
END:VTIMEZONE
BEGIN:VEVENT
DTSTART;TZID=America/New_York:20241204T130000
DTEND;TZID=America/New_York:20241204T160000
DTSTAMP:20260419T191305
CREATED:20241123T012652Z
LAST-MODIFIED:20241123T012652Z
UID:42420-1733317200-1733328000@livableraleigh.com
SUMMARY:Holiday Crafting Workshop
DESCRIPTION:Come enjoy a fun holiday crafting workshop on how to create kimekomi holiday trees!\nKimekomi trees are made from a technique where a pattern is drawn and then cut onto a surface\, such as a styrofoam foam form. Fabric is then placed over the pattern and tucked and glued into the cuts. The trees are then decorated with objects such as ribbons and beads. Come practice your crafting skills and enjoy some good company during the holiday season.Location: Five Points Center for Active AdultsAge: 18+Cost: $19 Residents / $34 Non-Residents
URL:https://livableraleigh.com/event/holiday-crafting-workshop/
LOCATION:Five Points Center for Active Adults\, 2000 Noble Road\, Raleigh\, NC\, 27608\, United States
CATEGORIES:Parks & Rec
END:VEVENT
BEGIN:VEVENT
DTSTART;TZID=America/New_York:20241204T160000
DTEND;TZID=America/New_York:20241204T170000
DTSTAMP:20260419T191305
CREATED:20241115T171632Z
LAST-MODIFIED:20241115T171632Z
UID:42334-1733328000-1733331600@livableraleigh.com
SUMMARY:Help Us Shape the Future of the City of Raleigh Museum!
DESCRIPTION:As the City and the Museum grow\, now is an important time to reassess the Museum’s location and program to ensure it continues to reflect Raleigh’s history. We are hosting an event at the museum for members of the public to provide input on the vision and opportunity for the future of the museum. Come provide input on where a permanent COR Museum should be and what it should look like.Location: City of Raleigh MuseumAges: AllCost: Free
URL:https://livableraleigh.com/event/help-us-shape-the-future-of-the-city-of-raleigh-museum/
LOCATION:City of Raleigh Museum\, 220 Fayetteville St\, Raleigh\, NC\, 27601
CATEGORIES:Parks & Rec
END:VEVENT
END:VCALENDAR