BEGIN:VCALENDAR
VERSION:2.0
PRODID:-//Livable Raleigh - ECPv6.15.20//NONSGML v1.0//EN
CALSCALE:GREGORIAN
METHOD:PUBLISH
X-ORIGINAL-URL:https://livableraleigh.com
X-WR-CALDESC:Events for Livable Raleigh
REFRESH-INTERVAL;VALUE=DURATION:PT1H
X-Robots-Tag:noindex
X-PUBLISHED-TTL:PT1H
BEGIN:VTIMEZONE
TZID:America/New_York
BEGIN:DAYLIGHT
TZOFFSETFROM:-0500
TZOFFSETTO:-0400
TZNAME:EDT
DTSTART:20230312T070000
END:DAYLIGHT
BEGIN:STANDARD
TZOFFSETFROM:-0400
TZOFFSETTO:-0500
TZNAME:EST
DTSTART:20231105T060000
END:STANDARD
BEGIN:DAYLIGHT
TZOFFSETFROM:-0500
TZOFFSETTO:-0400
TZNAME:EDT
DTSTART:20240310T070000
END:DAYLIGHT
BEGIN:STANDARD
TZOFFSETFROM:-0400
TZOFFSETTO:-0500
TZNAME:EST
DTSTART:20241103T060000
END:STANDARD
BEGIN:DAYLIGHT
TZOFFSETFROM:-0500
TZOFFSETTO:-0400
TZNAME:EDT
DTSTART:20250309T070000
END:DAYLIGHT
BEGIN:STANDARD
TZOFFSETFROM:-0400
TZOFFSETTO:-0500
TZNAME:EST
DTSTART:20251102T060000
END:STANDARD
END:VTIMEZONE
BEGIN:VEVENT
DTSTART;TZID=America/New_York:20241125T110000
DTEND;TZID=America/New_York:20241125T123000
DTSTAMP:20260420T025045
CREATED:20241123T012404Z
LAST-MODIFIED:20241123T012404Z
UID:42418-1732532400-1732537800@livableraleigh.com
SUMMARY:National Veterans Month Brunch
DESCRIPTION:We proudly honor Raleigh’s veterans and thank them for their service.\nCome and enjoy the end of National Veterans and Military Families Month with us at Five Points. We are partnering with Oak Street Health and Raleigh’s Veterans of Foreign Wars to provide a brunch honoring Raleigh’s veterans. Each veteran will receive a thank you card and an honorary frame at the event. Registration is required. \nLocation: Five Points Center for Active AdultsAges: Veterans of Any AgeCost: FreeRegistration is Required
URL:https://livableraleigh.com/event/national-veterans-month-brunch/
LOCATION:Five Points Center for Active Adults\, 2000 Noble Road\, Raleigh\, NC\, 27608\, United States
CATEGORIES:Parks & Rec
END:VEVENT
END:VCALENDAR