BEGIN:VCALENDAR
VERSION:2.0
PRODID:-//Livable Raleigh - ECPv6.15.20//NONSGML v1.0//EN
CALSCALE:GREGORIAN
METHOD:PUBLISH
X-ORIGINAL-URL:https://livableraleigh.com
X-WR-CALDESC:Events for Livable Raleigh
REFRESH-INTERVAL;VALUE=DURATION:PT1H
X-Robots-Tag:noindex
X-PUBLISHED-TTL:PT1H
BEGIN:VTIMEZONE
TZID:America/New_York
BEGIN:DAYLIGHT
TZOFFSETFROM:-0500
TZOFFSETTO:-0400
TZNAME:EDT
DTSTART:20230312T070000
END:DAYLIGHT
BEGIN:STANDARD
TZOFFSETFROM:-0400
TZOFFSETTO:-0500
TZNAME:EST
DTSTART:20231105T060000
END:STANDARD
BEGIN:DAYLIGHT
TZOFFSETFROM:-0500
TZOFFSETTO:-0400
TZNAME:EDT
DTSTART:20240310T070000
END:DAYLIGHT
BEGIN:STANDARD
TZOFFSETFROM:-0400
TZOFFSETTO:-0500
TZNAME:EST
DTSTART:20241103T060000
END:STANDARD
BEGIN:DAYLIGHT
TZOFFSETFROM:-0500
TZOFFSETTO:-0400
TZNAME:EDT
DTSTART:20250309T070000
END:DAYLIGHT
BEGIN:STANDARD
TZOFFSETFROM:-0400
TZOFFSETTO:-0500
TZNAME:EST
DTSTART:20251102T060000
END:STANDARD
END:VTIMEZONE
BEGIN:VEVENT
DTSTART;TZID=America/New_York:20241123T093000
DTEND;TZID=America/New_York:20241123T120000
DTSTAMP:20260420T064042
CREATED:20241006T020433Z
LAST-MODIFIED:20241006T020433Z
UID:41528-1732354200-1732363200@livableraleigh.com
SUMMARY:History Explorers
DESCRIPTION:Hop on the Historic Raleigh Trolley to travel through time!\nDuring this series\, we’ll visit different historic sites and museums in the Raleigh area for hands-on activities and to learn more about the past. Each month will feature a different field location with transportation provided on the Historic Raleigh Trolley. Participants must be accompanied by an adult; guardians attend for free. \nAges: 10-14Cost: $10Register on RecLink
URL:https://livableraleigh.com/event/history-explorers-3/
LOCATION:Mordecai Historic Park\, 1 Mimosa St\, Raleigh\, NC\, 27604
CATEGORIES:Parks & Rec
END:VEVENT
BEGIN:VEVENT
DTSTART;TZID=America/New_York:20241123T130000
DTEND;TZID=America/New_York:20241123T140000
DTSTAMP:20260420T064042
CREATED:20241108T234715Z
LAST-MODIFIED:20241108T234715Z
UID:42270-1732366800-1732370400@livableraleigh.com
SUMMARY:Digging Deeper: Stories in Local Archaeology
DESCRIPTION:As Mordecai Historic Park investigates its own archaeological footprint\, the park will host a series of lectures with local experts sharing about their projects at historic sites\, cemeteries\, and more. \nIn November we welcome Melissa Timo\, Staff Archaeologist and Historic Cemetery Specialist with the North Carolina Office of State Archaeology. She will speak on her work in historic cemeteries throughout the state and preservation efforts\, challenges\, and local resources. \nRegistration is not required but is encouraged. \nStay tuned for information on future lectures in this series\, with 2025 dates to be announced soon. \nLocation: Mordecai Historic ParkAges: AllCost: FreeRegister on RecLink
URL:https://livableraleigh.com/event/digging-deeper-stories-in-local-archaeology/
LOCATION:Mordecai Historic Park\, 1 Mimosa St\, Raleigh\, NC\, 27604
CATEGORIES:Parks & Rec
END:VEVENT
END:VCALENDAR