BEGIN:VCALENDAR
VERSION:2.0
PRODID:-//Livable Raleigh - ECPv6.15.20//NONSGML v1.0//EN
CALSCALE:GREGORIAN
METHOD:PUBLISH
X-ORIGINAL-URL:https://livableraleigh.com
X-WR-CALDESC:Events for Livable Raleigh
REFRESH-INTERVAL;VALUE=DURATION:PT1H
X-Robots-Tag:noindex
X-PUBLISHED-TTL:PT1H
BEGIN:VTIMEZONE
TZID:America/New_York
BEGIN:DAYLIGHT
TZOFFSETFROM:-0500
TZOFFSETTO:-0400
TZNAME:EDT
DTSTART:20230312T070000
END:DAYLIGHT
BEGIN:STANDARD
TZOFFSETFROM:-0400
TZOFFSETTO:-0500
TZNAME:EST
DTSTART:20231105T060000
END:STANDARD
BEGIN:DAYLIGHT
TZOFFSETFROM:-0500
TZOFFSETTO:-0400
TZNAME:EDT
DTSTART:20240310T070000
END:DAYLIGHT
BEGIN:STANDARD
TZOFFSETFROM:-0400
TZOFFSETTO:-0500
TZNAME:EST
DTSTART:20241103T060000
END:STANDARD
BEGIN:DAYLIGHT
TZOFFSETFROM:-0500
TZOFFSETTO:-0400
TZNAME:EDT
DTSTART:20250309T070000
END:DAYLIGHT
BEGIN:STANDARD
TZOFFSETFROM:-0400
TZOFFSETTO:-0500
TZNAME:EST
DTSTART:20251102T060000
END:STANDARD
END:VTIMEZONE
BEGIN:VEVENT
DTSTART;TZID=America/New_York:20241116T100000
DTEND;TZID=America/New_York:20241116T150000
DTSTAMP:20260420T010344
CREATED:20241018T033037Z
LAST-MODIFIED:20241018T033037Z
UID:41793-1731751200-1731769200@livableraleigh.com
SUMMARY:The Doctor is in History Tour
DESCRIPTION:Come learn about how doctors like Dr. Manassa Pope practiced medicine.\nTours include original medical tools and medicine from the Pope House collection\, The Country Doctor Museum and Shaw University Archive! \nThis program is supported in part by North Carolina Humanities the state affiliate of the National Endowment for the Humanities.Location: Pope House MuseumAges: AllCosts: FreeNo Registration on Required
URL:https://livableraleigh.com/event/the-doctor-is-in-history-tour/
LOCATION:Pope House Museum\, 511 S Wilmington Street\, Raleigh\, NC\, 27601
CATEGORIES:Parks & Rec
END:VEVENT
BEGIN:VEVENT
DTSTART;TZID=America/New_York:20241116T120000
DTEND;TZID=America/New_York:20241116T160000
DTSTAMP:20260420T010344
CREATED:20241018T033200Z
LAST-MODIFIED:20241018T033200Z
UID:41795-1731758400-1731772800@livableraleigh.com
SUMMARY:Coats Cause We Care Coat Giveaway
DESCRIPTION:The City of Raleigh Coats Cause We Care mission is to provide free coats to children and adults in need while promoting volunteerism and environmental sustainability.\nKeep someone warm this winter. Bring your new or gently used clean coats to make someone’s winter a warm and cozy season. The temperatures can get extremely cold in the winter. Here is one way to support your community and help your neighbors. \nEvery coat goes to a person in need\, free of charge and without discrimination or obligation. Please support our Coats Cause We Care drive because YOU CARE! \nDonation Details\n\nDonations are accepted now through Thursday\, Nov. 14\nDrop Off Your Coats\n\nSgt. Courtney T. Johnson Community Center Monday – Friday between 2 – 8 p.m. and Saturdays 11 a.m. – 5 p.m.\nThe nearest Raleigh Parks Community Center\n\n\n\nCoat Giveaway Day\nLocation: Sgt. Courtney T. Johnson Community CenterDate: Saturday\, Nov. 16Time: noon to 4 p.m.Cost: FreeAges: All
URL:https://livableraleigh.com/event/coats-cause-we-care-coat-giveaway/
LOCATION:Southgate Park\, 1801 Proctor Street\, Raleigh\, NC\, 27610
CATEGORIES:Parks & Rec
END:VEVENT
END:VCALENDAR