BEGIN:VCALENDAR
VERSION:2.0
PRODID:-//Livable Raleigh - ECPv6.15.20//NONSGML v1.0//EN
CALSCALE:GREGORIAN
METHOD:PUBLISH
X-WR-CALNAME:Livable Raleigh
X-ORIGINAL-URL:https://livableraleigh.com
X-WR-CALDESC:Events for Livable Raleigh
REFRESH-INTERVAL;VALUE=DURATION:PT1H
X-Robots-Tag:noindex
X-PUBLISHED-TTL:PT1H
BEGIN:VTIMEZONE
TZID:America/New_York
BEGIN:DAYLIGHT
TZOFFSETFROM:-0500
TZOFFSETTO:-0400
TZNAME:EDT
DTSTART:20230312T070000
END:DAYLIGHT
BEGIN:STANDARD
TZOFFSETFROM:-0400
TZOFFSETTO:-0500
TZNAME:EST
DTSTART:20231105T060000
END:STANDARD
BEGIN:DAYLIGHT
TZOFFSETFROM:-0500
TZOFFSETTO:-0400
TZNAME:EDT
DTSTART:20240310T070000
END:DAYLIGHT
BEGIN:STANDARD
TZOFFSETFROM:-0400
TZOFFSETTO:-0500
TZNAME:EST
DTSTART:20241103T060000
END:STANDARD
BEGIN:DAYLIGHT
TZOFFSETFROM:-0500
TZOFFSETTO:-0400
TZNAME:EDT
DTSTART:20250309T070000
END:DAYLIGHT
BEGIN:STANDARD
TZOFFSETFROM:-0400
TZOFFSETTO:-0500
TZNAME:EST
DTSTART:20251102T060000
END:STANDARD
END:VTIMEZONE
BEGIN:VEVENT
DTSTART;TZID=America/New_York:20241115T180000
DTEND;TZID=America/New_York:20241115T210000
DTSTAMP:20260419T203512
CREATED:20241115T170742Z
LAST-MODIFIED:20241115T170742Z
UID:42325-1731693600-1731704400@livableraleigh.com
SUMMARY:Bizarre Bazaar
DESCRIPTION:Bizarre\, eccentric\, odd… anyway you put it — you have not seen anything like this.\nJoin us at JCMP for the ultimate unusual experience! Arts\, entertainment\, games\, costumes\, and the strange combined. Enter the world of weird and explore the unbelievable at our Bizarre Bazaar. \nLocation: John Chavis Memorial ParkAges: 21 and upCost: Free
URL:https://livableraleigh.com/event/bizarre-bazaar-2/
LOCATION:John Chavis Community Center\, 505 Martin Luther King Jr. Blvd.\, Raleigh\, NC\, 27601\, United States
CATEGORIES:Parks & Rec
END:VEVENT
BEGIN:VEVENT
DTSTART;TZID=America/New_York:20241115T183000
DTEND;TZID=America/New_York:20241115T200000
DTSTAMP:20260419T203512
CREATED:20241018T032848Z
LAST-MODIFIED:20241018T032848Z
UID:41791-1731695400-1731700800@livableraleigh.com
SUMMARY:Born to Heal: African Americans in Medicine Lecture
DESCRIPTION:This lecture will explore African Americans in medicine in the 19th and early 20th centuries.\nDr. Chad Swanson\, DO\, MPH\, and La’Cura Venable\, MA\, LPN\, will discuss the history of St. Agnes Hospital and Dr. Lawson A. Scruggs and how Black medical practitioners broke barriers in the field of medicine despite racism and Jim Crow laws. \nThis program is supported in part by North Carolina Humanities the state affiliate of the National Endowment for the Humanities.Location: City of Raleigh MuseumAges: AllCost: FreeNo Registration Required
URL:https://livableraleigh.com/event/born-to-heal-african-americans-in-medicine-lecture/
LOCATION:City of Raleigh Museum\, 220 Fayetteville St\, Raleigh\, NC\, 27601
CATEGORIES:Parks & Rec
END:VEVENT
END:VCALENDAR