BEGIN:VCALENDAR
VERSION:2.0
PRODID:-//Livable Raleigh - ECPv6.15.20//NONSGML v1.0//EN
CALSCALE:GREGORIAN
METHOD:PUBLISH
X-WR-CALNAME:Livable Raleigh
X-ORIGINAL-URL:https://livableraleigh.com
X-WR-CALDESC:Events for Livable Raleigh
REFRESH-INTERVAL;VALUE=DURATION:PT1H
X-Robots-Tag:noindex
X-PUBLISHED-TTL:PT1H
BEGIN:VTIMEZONE
TZID:America/New_York
BEGIN:DAYLIGHT
TZOFFSETFROM:-0500
TZOFFSETTO:-0400
TZNAME:EDT
DTSTART:20230312T070000
END:DAYLIGHT
BEGIN:STANDARD
TZOFFSETFROM:-0400
TZOFFSETTO:-0500
TZNAME:EST
DTSTART:20231105T060000
END:STANDARD
BEGIN:DAYLIGHT
TZOFFSETFROM:-0500
TZOFFSETTO:-0400
TZNAME:EDT
DTSTART:20240310T070000
END:DAYLIGHT
BEGIN:STANDARD
TZOFFSETFROM:-0400
TZOFFSETTO:-0500
TZNAME:EST
DTSTART:20241103T060000
END:STANDARD
BEGIN:DAYLIGHT
TZOFFSETFROM:-0500
TZOFFSETTO:-0400
TZNAME:EDT
DTSTART:20250309T070000
END:DAYLIGHT
BEGIN:STANDARD
TZOFFSETFROM:-0400
TZOFFSETTO:-0500
TZNAME:EST
DTSTART:20251102T060000
END:STANDARD
END:VTIMEZONE
BEGIN:VEVENT
DTSTART;TZID=America/New_York:20241031T200000
DTEND;TZID=America/New_York:20241031T220000
DTSTAMP:20260420T033737
CREATED:20241005T233016Z
LAST-MODIFIED:20241005T233016Z
UID:41443-1730404800-1730412000@livableraleigh.com
SUMMARY:The Haunted at the Pines
DESCRIPTION:Come out\, if you dare\, for a haunted night at the Pines.\nEach ghoul-themed room will have frightful music for the perfect Halloween thrill! Enter at your own risk! \nAll event proceeds will go to Raleigh Parks’ Play it Forward Financial Assistance Fund. \nAges: 10+Cost: $5 per personRegister on RecLinkAttendees will travel through the haunted house in groups of four.
URL:https://livableraleigh.com/event/the-haunted-at-the-pines-2/
LOCATION:Carolina Pines Community Center\, 2305 Lake Wheeler Road\, Raleigh\, NC\, 27603\, United States
CATEGORIES:Parks & Rec
END:VEVENT
END:VCALENDAR