BEGIN:VCALENDAR
VERSION:2.0
PRODID:-//Livable Raleigh - ECPv6.15.20//NONSGML v1.0//EN
CALSCALE:GREGORIAN
METHOD:PUBLISH
X-WR-CALNAME:Livable Raleigh
X-ORIGINAL-URL:https://livableraleigh.com
X-WR-CALDESC:Events for Livable Raleigh
REFRESH-INTERVAL;VALUE=DURATION:PT1H
X-Robots-Tag:noindex
X-PUBLISHED-TTL:PT1H
BEGIN:VTIMEZONE
TZID:America/New_York
BEGIN:DAYLIGHT
TZOFFSETFROM:-0500
TZOFFSETTO:-0400
TZNAME:EDT
DTSTART:20230312T070000
END:DAYLIGHT
BEGIN:STANDARD
TZOFFSETFROM:-0400
TZOFFSETTO:-0500
TZNAME:EST
DTSTART:20231105T060000
END:STANDARD
BEGIN:DAYLIGHT
TZOFFSETFROM:-0500
TZOFFSETTO:-0400
TZNAME:EDT
DTSTART:20240310T070000
END:DAYLIGHT
BEGIN:STANDARD
TZOFFSETFROM:-0400
TZOFFSETTO:-0500
TZNAME:EST
DTSTART:20241103T060000
END:STANDARD
BEGIN:DAYLIGHT
TZOFFSETFROM:-0500
TZOFFSETTO:-0400
TZNAME:EDT
DTSTART:20250309T070000
END:DAYLIGHT
BEGIN:STANDARD
TZOFFSETFROM:-0400
TZOFFSETTO:-0500
TZNAME:EST
DTSTART:20251102T060000
END:STANDARD
END:VTIMEZONE
BEGIN:VEVENT
DTSTART;TZID=America/New_York:20241025T170000
DTEND;TZID=America/New_York:20241025T190000
DTSTAMP:20260420T033729
CREATED:20240914T013708Z
LAST-MODIFIED:20240914T013708Z
UID:40672-1729875600-1729882800@livableraleigh.com
SUMMARY:Trunk-or-Treat and Fall Festival
DESCRIPTION:Biltmore Hills Community Center\, the Raleigh Police Advisory Board\, and South East Raleigh Promise would like to invite you to the second annual trunk-or-treat event!\nBring your children in their best costumes and come enjoy free candy\, learn about the Police Advisory Board\, and enjoy an awesome fall festival. Participants can make candy bags\, enjoy one of our many Inflatables\, and enjoy a variety of activities. \nWhat Else Is Happening\n\nFree Pizza from 6-6:30 p.m.\nPumpkin giveaway while supplies last. Carnival games in the gym.\nFree candy is provided by the Police Advisory Board.\nFall backdrop for photos of the best costumes.\nAge-appropriate prizes and more!\n\nAge:  School AgeCost: Free
URL:https://livableraleigh.com/event/trunk-or-treat-and-fall-festival/
LOCATION:Biltmore Hills Park\, 2615 Fitzgerald Drive\, Raleigh\, NC\, 27610
CATEGORIES:Parks & Rec
END:VEVENT
BEGIN:VEVENT
DTSTART;TZID=America/New_York:20241025T170000
DTEND;TZID=America/New_York:20241025T190000
DTSTAMP:20260420T033729
CREATED:20241018T014826Z
LAST-MODIFIED:20241018T014826Z
UID:41775-1729875600-1729882800@livableraleigh.com
SUMMARY:Fall Festival at Barwell
DESCRIPTION:Get ready for a spooktacular time!\nPut on your favorite costume and join the fun with games\, a lively parade around the gym\, awesome crafts\, and tasty treats! Don’t miss out on this festive fall celebration—it will be a blast! Can’t wait to see you there! \nLocation: Barwell RoadAges: AllCost: FreeKeep costumes friendly—no knives\, guns\, or fake blood allowed.
URL:https://livableraleigh.com/event/fall-festival-at-barwell/
LOCATION:Barwell Road Community Center\, 5857 Barwell Park Dr\, Raleigh\, NC\, 27610\, United States
CATEGORIES:Parks & Rec
END:VEVENT
BEGIN:VEVENT
DTSTART;TZID=America/New_York:20241025T180000
DTEND;TZID=America/New_York:20241025T210000
DTSTAMP:20260420T033729
CREATED:20241011T202335Z
LAST-MODIFIED:20241011T202335Z
UID:41673-1729879200-1729890000@livableraleigh.com
SUMMARY:Dark Raleigh
DESCRIPTION:Join the Friends of the City of Raleigh (COR) Museum on our annual true crime Dark Raleigh Walking Tour. The COR Museum brings to life some of Raleigh’s most fascinating and grisly stories. The tour is different every year and features a whole new slate of chilling tales. Dark Raleigh is an “after-hours” interactive walking tour featuring true stories brought to life by local actors. \nTours will begin every half hour starting at 6 p.m.\, and last approximately 1 hour. Tours will include walking outdoors\, so please dress appropriately. \n*The tour is recommended for 16 and older due to the mature/adult nature of the stories. \nLocation: City of Raleigh MuseumAges: 16 and olderCost: General admission\, $20 – $25Get tickets to the Dark Raleigh Walking Tour*Full content warning: Content within the stories may be upsetting or disturbing to some participants. Stories may include: mentions of sexual abuse\, incest\, abortion\, suicide\, death\, illness\, and more.
URL:https://livableraleigh.com/event/dark-raleigh-2/
LOCATION:City of Raleigh Museum\, 220 Fayetteville St\, Raleigh\, NC\, 27601
CATEGORIES:Parks & Rec
END:VEVENT
BEGIN:VEVENT
DTSTART;TZID=America/New_York:20241025T183000
DTEND;TZID=America/New_York:20241025T203000
DTSTAMP:20260420T033729
CREATED:20240927T171620Z
LAST-MODIFIED:20240927T171620Z
UID:41030-1729881000-1729888200@livableraleigh.com
SUMMARY:Ghostly Spooktacular
DESCRIPTION:Looking for somewhere to bring your ghouls and goblins?\nWell\, look no further! Bring them to Green Road Community Center. We will have a fun-packed evening with activities including a ghostly dance party\, spooky crafts\, monstrous games and more! Kids will leave with a smile and a treat. Costumes are encouraged but not required. \nLocation: Green Road Community CenterAges: AllCost: Free
URL:https://livableraleigh.com/event/ghostly-spooktacular-2/
LOCATION:Green Rd Community Center\, 4201 Green Rd\, Raleigh\, NC\, 27604
CATEGORIES:Parks & Rec
END:VEVENT
BEGIN:VEVENT
DTSTART;TZID=America/New_York:20241025T183000
DTEND;TZID=America/New_York:20241025T213000
DTSTAMP:20260420T033729
CREATED:20240920T160635Z
LAST-MODIFIED:20240920T160635Z
UID:40787-1729881000-1729891800@livableraleigh.com
SUMMARY:Haunted Trolley Tour
DESCRIPTION:Discover history\, mystery and lore with your ghost host on the Haunted Trolley\, if you dare\, for a special late-night tour of downtown Raleigh’s most haunted places. Jump aboard and keep your eyes open for ghostly visitors of years past… they’ve just been dying to have you. Recommended for ages 6 and up due to frightening elements. \nThe trolley departs from Mordecai Historic Park. Advanced registration is recommended. Please call 919-996-4364 for tickets or more information. \nTour Times: 6:45 p.m.\, 7:45 p.m. and 8:45 p.m.Cost: $15Register for the Haunted Trolley Tour
URL:https://livableraleigh.com/event/haunted-trolley-tour-3/
LOCATION:Mordecai Historic Park\, 1 Mimosa St\, Raleigh\, NC\, 27604
CATEGORIES:Parks & Rec
END:VEVENT
END:VCALENDAR