BEGIN:VCALENDAR
VERSION:2.0
PRODID:-//Livable Raleigh - ECPv6.15.20//NONSGML v1.0//EN
CALSCALE:GREGORIAN
METHOD:PUBLISH
X-ORIGINAL-URL:https://livableraleigh.com
X-WR-CALDESC:Events for Livable Raleigh
REFRESH-INTERVAL;VALUE=DURATION:PT1H
X-Robots-Tag:noindex
X-PUBLISHED-TTL:PT1H
BEGIN:VTIMEZONE
TZID:America/New_York
BEGIN:DAYLIGHT
TZOFFSETFROM:-0500
TZOFFSETTO:-0400
TZNAME:EDT
DTSTART:20230312T070000
END:DAYLIGHT
BEGIN:STANDARD
TZOFFSETFROM:-0400
TZOFFSETTO:-0500
TZNAME:EST
DTSTART:20231105T060000
END:STANDARD
BEGIN:DAYLIGHT
TZOFFSETFROM:-0500
TZOFFSETTO:-0400
TZNAME:EDT
DTSTART:20240310T070000
END:DAYLIGHT
BEGIN:STANDARD
TZOFFSETFROM:-0400
TZOFFSETTO:-0500
TZNAME:EST
DTSTART:20241103T060000
END:STANDARD
BEGIN:DAYLIGHT
TZOFFSETFROM:-0500
TZOFFSETTO:-0400
TZNAME:EDT
DTSTART:20250309T070000
END:DAYLIGHT
BEGIN:STANDARD
TZOFFSETFROM:-0400
TZOFFSETTO:-0500
TZNAME:EST
DTSTART:20251102T060000
END:STANDARD
END:VTIMEZONE
BEGIN:VEVENT
DTSTART;TZID=America/New_York:20241023T183000
DTEND;TZID=America/New_York:20241023T213000
DTSTAMP:20260420T022751
CREATED:20240920T160519Z
LAST-MODIFIED:20240920T160519Z
UID:40785-1729708200-1729719000@livableraleigh.com
SUMMARY:Pullen Dance 50th Anniversary Benefit
DESCRIPTION:Pullen Dance Club has been hosting dances since 1974. Join us for an amazing night\, as we celebrate the 50th anniversary of the club.\nThe evening will be filled with dancing to live music\, socializing\, refreshments\, fun historical facts\, photo ops\, and more. All proceeds benefit Raleigh’s “Play It Forward” financial assistance program\, which provides affordable\, accessible programs that bring children\, individuals\, and families into Raleigh’s parks. Come and dance the night away with us! Music provided by The Triangle Jazz Orchestra.Location: Pullen Community CenterAges: 18 and upCost: $15 per personRegister on RecLink
URL:https://livableraleigh.com/event/pullen-dance-50th-anniversary-benefit/
LOCATION:Pullen Park Community Center\, 408 Ashe Ave\, Raleigh\, NC\, 27607
CATEGORIES:Parks & Rec
END:VEVENT
END:VCALENDAR