BEGIN:VCALENDAR
VERSION:2.0
PRODID:-//Livable Raleigh - ECPv6.15.20//NONSGML v1.0//EN
CALSCALE:GREGORIAN
METHOD:PUBLISH
X-ORIGINAL-URL:https://livableraleigh.com
X-WR-CALDESC:Events for Livable Raleigh
REFRESH-INTERVAL;VALUE=DURATION:PT1H
X-Robots-Tag:noindex
X-PUBLISHED-TTL:PT1H
BEGIN:VTIMEZONE
TZID:America/New_York
BEGIN:DAYLIGHT
TZOFFSETFROM:-0500
TZOFFSETTO:-0400
TZNAME:EDT
DTSTART:20230312T070000
END:DAYLIGHT
BEGIN:STANDARD
TZOFFSETFROM:-0400
TZOFFSETTO:-0500
TZNAME:EST
DTSTART:20231105T060000
END:STANDARD
BEGIN:DAYLIGHT
TZOFFSETFROM:-0500
TZOFFSETTO:-0400
TZNAME:EDT
DTSTART:20240310T070000
END:DAYLIGHT
BEGIN:STANDARD
TZOFFSETFROM:-0400
TZOFFSETTO:-0500
TZNAME:EST
DTSTART:20241103T060000
END:STANDARD
BEGIN:DAYLIGHT
TZOFFSETFROM:-0500
TZOFFSETTO:-0400
TZNAME:EDT
DTSTART:20250309T070000
END:DAYLIGHT
BEGIN:STANDARD
TZOFFSETFROM:-0400
TZOFFSETTO:-0500
TZNAME:EST
DTSTART:20251102T060000
END:STANDARD
END:VTIMEZONE
BEGIN:VEVENT
DTSTART;TZID=America/New_York:20241018T183000
DTEND;TZID=America/New_York:20241018T213000
DTSTAMP:20260420T010415
CREATED:20240920T160247Z
LAST-MODIFIED:20240920T160247Z
UID:40781-1729276200-1729287000@livableraleigh.com
SUMMARY:Haunted Trolley Tour
DESCRIPTION:Discover history\, mystery and lore with your ghost host on the Haunted Trolley\, if you dare\, for a special late-night tour of downtown Raleigh’s most haunted places. Jump aboard and keep your eyes open for ghostly visitors of years past… they’ve just been dying to have you. Recommended for ages 6 and up due to frightening elements. \nThe trolley departs from Mordecai Historic Park. Advanced registration is recommended. Please call 919-996-4364 for tickets or more information. \nTour Times: 6:45 p.m.\, 7:45 p.m. and 8:45 p.m.Cost: $15Register for the Haunted Trolley Tour
URL:https://livableraleigh.com/event/haunted-trolley-tour/
LOCATION:Mordecai Historic Park\, 1 Mimosa St\, Raleigh\, NC\, 27604
CATEGORIES:Parks & Rec
END:VEVENT
END:VCALENDAR