BEGIN:VCALENDAR
VERSION:2.0
PRODID:-//Livable Raleigh - ECPv6.15.20//NONSGML v1.0//EN
CALSCALE:GREGORIAN
METHOD:PUBLISH
X-WR-CALNAME:Livable Raleigh
X-ORIGINAL-URL:https://livableraleigh.com
X-WR-CALDESC:Events for Livable Raleigh
REFRESH-INTERVAL;VALUE=DURATION:PT1H
X-Robots-Tag:noindex
X-PUBLISHED-TTL:PT1H
BEGIN:VTIMEZONE
TZID:America/New_York
BEGIN:DAYLIGHT
TZOFFSETFROM:-0500
TZOFFSETTO:-0400
TZNAME:EDT
DTSTART:20230312T070000
END:DAYLIGHT
BEGIN:STANDARD
TZOFFSETFROM:-0400
TZOFFSETTO:-0500
TZNAME:EST
DTSTART:20231105T060000
END:STANDARD
BEGIN:DAYLIGHT
TZOFFSETFROM:-0500
TZOFFSETTO:-0400
TZNAME:EDT
DTSTART:20240310T070000
END:DAYLIGHT
BEGIN:STANDARD
TZOFFSETFROM:-0400
TZOFFSETTO:-0500
TZNAME:EST
DTSTART:20241103T060000
END:STANDARD
BEGIN:DAYLIGHT
TZOFFSETFROM:-0500
TZOFFSETTO:-0400
TZNAME:EDT
DTSTART:20250309T070000
END:DAYLIGHT
BEGIN:STANDARD
TZOFFSETFROM:-0400
TZOFFSETTO:-0500
TZNAME:EST
DTSTART:20251102T060000
END:STANDARD
END:VTIMEZONE
BEGIN:VEVENT
DTSTART;TZID=America/New_York:20241010T180000
DTEND;TZID=America/New_York:20241010T193000
DTSTAMP:20260420T022325
CREATED:20240914T013222Z
LAST-MODIFIED:20240914T013222Z
UID:40666-1728583200-1728588600@livableraleigh.com
SUMMARY:Speakeasy Players Showcase
DESCRIPTION:oin the Speakeasy Players for an early evening of skits\, games\, and time together!\nWe are the Speakeasy Players\, a group of adults who enjoy acting! We meet and perform at the Five Points Center on Monday afternoons. You’ll find us performing comedy\, mystery\, drama – just about everything. The good news is that we don’t bother to memorize our scripts – we read them\, but with expression\, passion\, anger\, joy\, or whatever the characters call for! \nOur showcase will run for about 45 minutes.  It includes several short skits\, some for the big people\, and some for the kids. We adults are kids at heart\, you know. We are going to involve both kids and adults in some of the activities we do! So sit back\, relax\, and get ready to laugh. \nAges: AllCost: FreeRegister on RecLink
URL:https://livableraleigh.com/event/speakeasy-players-showcase/
LOCATION:Five Points Center for Active Adults\, 2000 Noble Road\, Raleigh\, NC\, 27608\, United States
CATEGORIES:Parks & Rec
END:VEVENT
END:VCALENDAR