BEGIN:VCALENDAR
VERSION:2.0
PRODID:-//Livable Raleigh - ECPv6.15.20//NONSGML v1.0//EN
CALSCALE:GREGORIAN
METHOD:PUBLISH
X-WR-CALNAME:Livable Raleigh
X-ORIGINAL-URL:https://livableraleigh.com
X-WR-CALDESC:Events for Livable Raleigh
REFRESH-INTERVAL;VALUE=DURATION:PT1H
X-Robots-Tag:noindex
X-PUBLISHED-TTL:PT1H
BEGIN:VTIMEZONE
TZID:America/New_York
BEGIN:DAYLIGHT
TZOFFSETFROM:-0500
TZOFFSETTO:-0400
TZNAME:EDT
DTSTART:20230312T070000
END:DAYLIGHT
BEGIN:STANDARD
TZOFFSETFROM:-0400
TZOFFSETTO:-0500
TZNAME:EST
DTSTART:20231105T060000
END:STANDARD
BEGIN:DAYLIGHT
TZOFFSETFROM:-0500
TZOFFSETTO:-0400
TZNAME:EDT
DTSTART:20240310T070000
END:DAYLIGHT
BEGIN:STANDARD
TZOFFSETFROM:-0400
TZOFFSETTO:-0500
TZNAME:EST
DTSTART:20241103T060000
END:STANDARD
BEGIN:DAYLIGHT
TZOFFSETFROM:-0500
TZOFFSETTO:-0400
TZNAME:EDT
DTSTART:20250309T070000
END:DAYLIGHT
BEGIN:STANDARD
TZOFFSETFROM:-0400
TZOFFSETTO:-0500
TZNAME:EST
DTSTART:20251102T060000
END:STANDARD
END:VTIMEZONE
BEGIN:VEVENT
DTSTART;TZID=America/New_York:20240924T173000
DTEND;TZID=America/New_York:20240924T183000
DTSTAMP:20260420T093803
CREATED:20240914T010933Z
LAST-MODIFIED:20240914T010933Z
UID:40646-1727199000-1727202600@livableraleigh.com
SUMMARY:Naloxone Training for Save A Life Day
DESCRIPTION:In honor of Save a Life Day\, Wake County Government\, Raleigh Parks\, and the NC Harm Reduction Coalition are sponsoring a free naloxone training event.\nThis important session will teach participants how to recognize and respond to opioid overdoses using naloxone\, a medication that can save lives. The training covers overdose prevention\, administration of naloxone\, and legal protections under North Carolina’s Good Samaritan Law. \nAges: AllCost: FreeRegister on RecLink
URL:https://livableraleigh.com/event/naloxone-training-for-save-a-life-day/
LOCATION:John Chavis Community Center\, 505 Martin Luther King Jr. Blvd.\, Raleigh\, NC\, 27601\, United States
CATEGORIES:Parks & Rec
END:VEVENT
END:VCALENDAR