BEGIN:VCALENDAR
VERSION:2.0
PRODID:-//Livable Raleigh - ECPv6.15.20//NONSGML v1.0//EN
CALSCALE:GREGORIAN
METHOD:PUBLISH
X-WR-CALNAME:Livable Raleigh
X-ORIGINAL-URL:https://livableraleigh.com
X-WR-CALDESC:Events for Livable Raleigh
REFRESH-INTERVAL;VALUE=DURATION:PT1H
X-Robots-Tag:noindex
X-PUBLISHED-TTL:PT1H
BEGIN:VTIMEZONE
TZID:America/New_York
BEGIN:DAYLIGHT
TZOFFSETFROM:-0500
TZOFFSETTO:-0400
TZNAME:EDT
DTSTART:20230312T070000
END:DAYLIGHT
BEGIN:STANDARD
TZOFFSETFROM:-0400
TZOFFSETTO:-0500
TZNAME:EST
DTSTART:20231105T060000
END:STANDARD
BEGIN:DAYLIGHT
TZOFFSETFROM:-0500
TZOFFSETTO:-0400
TZNAME:EDT
DTSTART:20240310T070000
END:DAYLIGHT
BEGIN:STANDARD
TZOFFSETFROM:-0400
TZOFFSETTO:-0500
TZNAME:EST
DTSTART:20241103T060000
END:STANDARD
BEGIN:DAYLIGHT
TZOFFSETFROM:-0500
TZOFFSETTO:-0400
TZNAME:EDT
DTSTART:20250309T070000
END:DAYLIGHT
BEGIN:STANDARD
TZOFFSETFROM:-0400
TZOFFSETTO:-0500
TZNAME:EST
DTSTART:20251102T060000
END:STANDARD
END:VTIMEZONE
BEGIN:VEVENT
DTSTART;TZID=America/New_York:20240921T093000
DTEND;TZID=America/New_York:20240921T120000
DTSTAMP:20260420T093816
CREATED:20240824T034230Z
LAST-MODIFIED:20240824T034311Z
UID:40190-1726911000-1726920000@livableraleigh.com
SUMMARY:History Explorers
DESCRIPTION:Hop on the Historic Raleigh Trolley to travel through time!\nDuring this series\, we’ll visit different historic sites and museums in the Raleigh area for hands-on activities and to learn more about the past. Each month will feature a different field location with transportation provided on the Historic Raleigh Trolley. Participants must be accompanied by an adult; guardians attend for free. \nIn September\, we’ll visit Freedom Park to learn about public art and create our own artwork! \nAges: 10-14Cost: $10Register on RecLink
URL:https://livableraleigh.com/event/history-explorers/
LOCATION:Mordecai Historic Park\, 1 Mimosa St\, Raleigh\, NC\, 27604
CATEGORIES:Parks & Rec
END:VEVENT
BEGIN:VEVENT
DTSTART;TZID=America/New_York:20240921T100000
DTEND;TZID=America/New_York:20240921T120000
DTSTAMP:20260420T093816
CREATED:20240824T034434Z
LAST-MODIFIED:20240824T034434Z
UID:40193-1726912800-1726920000@livableraleigh.com
SUMMARY:Nature Journaling
DESCRIPTION:Welcome the fall season at Latta University Historic Park by making a nature journal and walking around the park!\nCelebrate Take a Child Outside Week while learning about and enjoying Raleigh’s newest public park in Oberlin Village. Drop in on Saturday\, Sept. 21 between 10 a.m. and noon to decorate a nature journal with your child and enjoy a mindful walk around the park\, using provided guided prompts. Participants will receive a free nature journal to take home to use again. Feel free to bring picnic supplies to enjoy lunch in the park after the program! \nDate: Saturday\, Sept. 21Time: 10 a.m. – noonAges: 4-12Cost: FreeRegister on RecLink
URL:https://livableraleigh.com/event/nature-journaling/
LOCATION:Latta University Historic Park\, 1001 Parker Street\, Raleigh\, NC\, 27607
CATEGORIES:Parks & Rec
END:VEVENT
BEGIN:VEVENT
DTSTART;TZID=America/New_York:20240921T120000
DTEND;TZID=America/New_York:20240921T150000
DTSTAMP:20260420T093816
CREATED:20240824T034542Z
LAST-MODIFIED:20240824T034542Z
UID:40195-1726920000-1726930800@livableraleigh.com
SUMMARY:Bye Bye Summer Luau
DESCRIPTION:Come out and have a good time as we celebrate the end of summer!\nThere will be an awesome DJ\, arts and crafts\, bounce houses\, food trucks\, a hula dance party\, and games. Pull out your Hawaiian attire and come have a blast with us! \nAges: AllCost: Free
URL:https://livableraleigh.com/event/bye-bye-summer-luau/
LOCATION:Green Rd Community Center\, 4201 Green Rd\, Raleigh\, NC\, 27604
CATEGORIES:Parks & Rec
END:VEVENT
END:VCALENDAR