BEGIN:VCALENDAR
VERSION:2.0
PRODID:-//Livable Raleigh - ECPv6.15.20//NONSGML v1.0//EN
CALSCALE:GREGORIAN
METHOD:PUBLISH
X-WR-CALNAME:Livable Raleigh
X-ORIGINAL-URL:https://livableraleigh.com
X-WR-CALDESC:Events for Livable Raleigh
REFRESH-INTERVAL;VALUE=DURATION:PT1H
X-Robots-Tag:noindex
X-PUBLISHED-TTL:PT1H
BEGIN:VTIMEZONE
TZID:America/New_York
BEGIN:DAYLIGHT
TZOFFSETFROM:-0500
TZOFFSETTO:-0400
TZNAME:EDT
DTSTART:20230312T070000
END:DAYLIGHT
BEGIN:STANDARD
TZOFFSETFROM:-0400
TZOFFSETTO:-0500
TZNAME:EST
DTSTART:20231105T060000
END:STANDARD
BEGIN:DAYLIGHT
TZOFFSETFROM:-0500
TZOFFSETTO:-0400
TZNAME:EDT
DTSTART:20240310T070000
END:DAYLIGHT
BEGIN:STANDARD
TZOFFSETFROM:-0400
TZOFFSETTO:-0500
TZNAME:EST
DTSTART:20241103T060000
END:STANDARD
BEGIN:DAYLIGHT
TZOFFSETFROM:-0500
TZOFFSETTO:-0400
TZNAME:EDT
DTSTART:20250309T070000
END:DAYLIGHT
BEGIN:STANDARD
TZOFFSETFROM:-0400
TZOFFSETTO:-0500
TZNAME:EST
DTSTART:20251102T060000
END:STANDARD
END:VTIMEZONE
BEGIN:VEVENT
DTSTART;TZID=America/New_York:20240914T090000
DTEND;TZID=America/New_York:20240914T140000
DTSTAMP:20260420T080321
CREATED:20240803T014245Z
LAST-MODIFIED:20240803T014245Z
UID:39736-1726304400-1726322400@livableraleigh.com
SUMMARY:Lake Johnson Park Annual NC Big Sweep
DESCRIPTION:The annual Lake Johnson Park NC Big Sweep event invites participants to walk or paddle about the park to pick up trash. Lunch and beverages will be provided at the end of the cleanup by the Friends of Lake Johnson Association. \nLearn More and Register Online.
URL:https://livableraleigh.com/event/lake-johnson-park-annual-nc-big-sweep/
LOCATION:Lake Johnson Park\, 4601 Avent Ferry Road\, Raleigh\, NC\, 27606
CATEGORIES:Parks & Rec
END:VEVENT
END:VCALENDAR