BEGIN:VCALENDAR
VERSION:2.0
PRODID:-//Livable Raleigh - ECPv6.15.20//NONSGML v1.0//EN
CALSCALE:GREGORIAN
METHOD:PUBLISH
X-WR-CALNAME:Livable Raleigh
X-ORIGINAL-URL:https://livableraleigh.com
X-WR-CALDESC:Events for Livable Raleigh
REFRESH-INTERVAL;VALUE=DURATION:PT1H
X-Robots-Tag:noindex
X-PUBLISHED-TTL:PT1H
BEGIN:VTIMEZONE
TZID:America/New_York
BEGIN:DAYLIGHT
TZOFFSETFROM:-0500
TZOFFSETTO:-0400
TZNAME:EDT
DTSTART:20230312T070000
END:DAYLIGHT
BEGIN:STANDARD
TZOFFSETFROM:-0400
TZOFFSETTO:-0500
TZNAME:EST
DTSTART:20231105T060000
END:STANDARD
BEGIN:DAYLIGHT
TZOFFSETFROM:-0500
TZOFFSETTO:-0400
TZNAME:EDT
DTSTART:20240310T070000
END:DAYLIGHT
BEGIN:STANDARD
TZOFFSETFROM:-0400
TZOFFSETTO:-0500
TZNAME:EST
DTSTART:20241103T060000
END:STANDARD
BEGIN:DAYLIGHT
TZOFFSETFROM:-0500
TZOFFSETTO:-0400
TZNAME:EDT
DTSTART:20250309T070000
END:DAYLIGHT
BEGIN:STANDARD
TZOFFSETFROM:-0400
TZOFFSETTO:-0500
TZNAME:EST
DTSTART:20251102T060000
END:STANDARD
END:VTIMEZONE
BEGIN:VEVENT
DTSTART;TZID=America/New_York:20240907T100000
DTEND;TZID=America/New_York:20240907T120000
DTSTAMP:20260420T080225
CREATED:20240810T133344Z
LAST-MODIFIED:20240810T133344Z
UID:39855-1725703200-1725710400@livableraleigh.com
SUMMARY:Grandparents Day Tea
DESCRIPTION:Let’s celebrate our grandparents and those we love like our grandparents!\nJoin us for a spot of tea\, snacks and fun! This will be a drop-in event for children and their grandparents where we will be making crafts\, working on puzzles and much more. \nAges: AllCost: $5 per personRegister on RecLinkPlease pre-register each child\, grandparent\, and/or special friend who plans to attend.
URL:https://livableraleigh.com/event/grandparents-day-tea/
LOCATION:Pullen Park Community Center\, 408 Ashe Ave\, Raleigh\, NC\, 27607
CATEGORIES:Parks & Rec
END:VEVENT
END:VCALENDAR