BEGIN:VCALENDAR
VERSION:2.0
PRODID:-//Livable Raleigh - ECPv6.15.20//NONSGML v1.0//EN
CALSCALE:GREGORIAN
METHOD:PUBLISH
X-ORIGINAL-URL:https://livableraleigh.com
X-WR-CALDESC:Events for Livable Raleigh
REFRESH-INTERVAL;VALUE=DURATION:PT1H
X-Robots-Tag:noindex
X-PUBLISHED-TTL:PT1H
BEGIN:VTIMEZONE
TZID:America/New_York
BEGIN:DAYLIGHT
TZOFFSETFROM:-0500
TZOFFSETTO:-0400
TZNAME:EDT
DTSTART:20230312T070000
END:DAYLIGHT
BEGIN:STANDARD
TZOFFSETFROM:-0400
TZOFFSETTO:-0500
TZNAME:EST
DTSTART:20231105T060000
END:STANDARD
BEGIN:DAYLIGHT
TZOFFSETFROM:-0500
TZOFFSETTO:-0400
TZNAME:EDT
DTSTART:20240310T070000
END:DAYLIGHT
BEGIN:STANDARD
TZOFFSETFROM:-0400
TZOFFSETTO:-0500
TZNAME:EST
DTSTART:20241103T060000
END:STANDARD
BEGIN:DAYLIGHT
TZOFFSETFROM:-0500
TZOFFSETTO:-0400
TZNAME:EDT
DTSTART:20250309T070000
END:DAYLIGHT
BEGIN:STANDARD
TZOFFSETFROM:-0400
TZOFFSETTO:-0500
TZNAME:EST
DTSTART:20251102T060000
END:STANDARD
END:VTIMEZONE
BEGIN:VEVENT
DTSTART;TZID=America/New_York:20240820T180000
DTEND;TZID=America/New_York:20240820T193000
DTSTAMP:20260420T105701
CREATED:20240703T125509Z
LAST-MODIFIED:20240813T191251Z
UID:39098-1724176800-1724182200@livableraleigh.com
SUMMARY:Dix Park Community Committee Meeting -- Cancelled
DESCRIPTION:The Dix Park Community Committee is an advisory committee designed to represent the diversity of the community and bring a broad range of experiences and expertise to the Dorothea Dix Park project. This committee provides guidance and recommendation to the Dix Park Leadership Committee on matters related to park development\, programming\, and engagement. \nThe Dix Park Community Committee meeting will be held in-person at the Greg Poole\, Jr. All Faiths Chapel at Dix Park\, located at 1030 Richardson Drive\, Raleigh NC 27603. \nView Meeting Agendas and Minutes using the City’s paperless system
URL:https://livableraleigh.com/event/dix-park-community-committee-meeting-4/
LOCATION:All Faith’s Chapel at Dix Park\, 1030 Richardson Drive\, Raleigh\, NC\, 27603
CATEGORIES:Parks & Rec
END:VEVENT
END:VCALENDAR