BEGIN:VCALENDAR
VERSION:2.0
PRODID:-//Livable Raleigh - ECPv6.15.20//NONSGML v1.0//EN
CALSCALE:GREGORIAN
METHOD:PUBLISH
X-ORIGINAL-URL:https://livableraleigh.com
X-WR-CALDESC:Events for Livable Raleigh
REFRESH-INTERVAL;VALUE=DURATION:PT1H
X-Robots-Tag:noindex
X-PUBLISHED-TTL:PT1H
BEGIN:VTIMEZONE
TZID:America/New_York
BEGIN:DAYLIGHT
TZOFFSETFROM:-0500
TZOFFSETTO:-0400
TZNAME:EDT
DTSTART:20230312T070000
END:DAYLIGHT
BEGIN:STANDARD
TZOFFSETFROM:-0400
TZOFFSETTO:-0500
TZNAME:EST
DTSTART:20231105T060000
END:STANDARD
BEGIN:DAYLIGHT
TZOFFSETFROM:-0500
TZOFFSETTO:-0400
TZNAME:EDT
DTSTART:20240310T070000
END:DAYLIGHT
BEGIN:STANDARD
TZOFFSETFROM:-0400
TZOFFSETTO:-0500
TZNAME:EST
DTSTART:20241103T060000
END:STANDARD
BEGIN:DAYLIGHT
TZOFFSETFROM:-0500
TZOFFSETTO:-0400
TZNAME:EDT
DTSTART:20250309T070000
END:DAYLIGHT
BEGIN:STANDARD
TZOFFSETFROM:-0400
TZOFFSETTO:-0500
TZNAME:EST
DTSTART:20251102T060000
END:STANDARD
END:VTIMEZONE
BEGIN:VEVENT
DTSTART;TZID=America/New_York:20240716T160000
DTEND;TZID=America/New_York:20240716T200000
DTSTAMP:20260422T061255
CREATED:20240607T175340Z
LAST-MODIFIED:20240607T175340Z
UID:38612-1721145600-1721160000@livableraleigh.com
SUMMARY:Tarboro Road Park Redevelopment Drop-In Design Workshop
DESCRIPTION:Please help to design the new and improved Tarboro Road Park.\nJoin Raleigh Parks and the project design team for a drop-in design workshop. For more information\, please visit Tarboro Road Park Improvements. \nAges: AllCost: Free
URL:https://livableraleigh.com/event/tarboro-road-park-redevelopment-drop-in-design-workshop/
LOCATION:Tarboro Road Community Center
CATEGORIES:Parks & Rec
END:VEVENT
END:VCALENDAR