BEGIN:VCALENDAR
VERSION:2.0
PRODID:-//Livable Raleigh - ECPv6.15.20//NONSGML v1.0//EN
CALSCALE:GREGORIAN
METHOD:PUBLISH
X-ORIGINAL-URL:https://livableraleigh.com
X-WR-CALDESC:Events for Livable Raleigh
REFRESH-INTERVAL;VALUE=DURATION:PT1H
X-Robots-Tag:noindex
X-PUBLISHED-TTL:PT1H
BEGIN:VTIMEZONE
TZID:America/New_York
BEGIN:DAYLIGHT
TZOFFSETFROM:-0500
TZOFFSETTO:-0400
TZNAME:EDT
DTSTART:20230312T070000
END:DAYLIGHT
BEGIN:STANDARD
TZOFFSETFROM:-0400
TZOFFSETTO:-0500
TZNAME:EST
DTSTART:20231105T060000
END:STANDARD
BEGIN:DAYLIGHT
TZOFFSETFROM:-0500
TZOFFSETTO:-0400
TZNAME:EDT
DTSTART:20240310T070000
END:DAYLIGHT
BEGIN:STANDARD
TZOFFSETFROM:-0400
TZOFFSETTO:-0500
TZNAME:EST
DTSTART:20241103T060000
END:STANDARD
BEGIN:DAYLIGHT
TZOFFSETFROM:-0500
TZOFFSETTO:-0400
TZNAME:EDT
DTSTART:20250309T070000
END:DAYLIGHT
BEGIN:STANDARD
TZOFFSETFROM:-0400
TZOFFSETTO:-0500
TZNAME:EST
DTSTART:20251102T060000
END:STANDARD
END:VTIMEZONE
BEGIN:VEVENT
DTSTART;TZID=America/New_York:20240623T140000
DTEND;TZID=America/New_York:20240623T160000
DTSTAMP:20260422T085407
CREATED:20240518T033233Z
LAST-MODIFIED:20240518T033233Z
UID:38222-1719151200-1719158400@livableraleigh.com
SUMMARY:Strike and Stay: The Story of the Plott Hound
DESCRIPTION:Join award-winning author\, Bob Plott\, as he discusses his first of six books and conducts a program reviewing the history of the Plott Hound breed – the official state dog of North Carolina. \nIt is a story and breed like no other\, a tale of classic Americana telling the stories of not only the history of the breed\, but the colorful family members and friends who helped perpetuate their legacy – and still do today. \nAges: All agesCost: Free
URL:https://livableraleigh.com/event/strike-and-stay-the-story-of-the-plott-hound/
LOCATION:City of Raleigh Museum\, 220 Fayetteville St\, Raleigh\, NC\, 27601
CATEGORIES:Parks & Rec
END:VEVENT
BEGIN:VEVENT
DTSTART;TZID=America/New_York:20240623T180000
DTEND;TZID=America/New_York:20240623T200000
DTSTAMP:20260422T085407
CREATED:20240524T014021Z
LAST-MODIFIED:20240524T014706Z
UID:38312-1719165600-1719172800@livableraleigh.com
SUMMARY:Summer Concert Series - Fred Fletcher Park
DESCRIPTION:Our Summer Concert Series is back!\nWe look forward to seeing you all at the parks and enjoy some music from our local bands. Concerts are Free! Bring your own chair or blanket. \nPullen Park520 Ashe Ave\, Raleigh\, NC\nJune 30 – Triangle TaikoSept. 15 – The British Invaders Band \nFred Fletcher Park820 Clay Street\, Raleigh NC\nJune 23 – Capital TransitJuly 28 – Tune SwingersAugust 18 – TheloniousAugust 25 – TBDSept. 8 – SWAGSept. 22 – Raleigh Concert Band \nSunday EveningsJune and July\, 6 – 8 p.m.Aug. and Sept.\, 5 – 7 p.m. Ages: AllCost: FreeConcerts may be canceled for inclement. Performers may change without notice. Food is not available at Fred Fletcher Park.
URL:https://livableraleigh.com/event/summer-concert-series-7/
LOCATION:Fred Fletcher Park\, 820 Clay St\, Raleigh\, NC\, 27605
CATEGORIES:Parks & Rec
END:VEVENT
END:VCALENDAR