BEGIN:VCALENDAR
VERSION:2.0
PRODID:-//Livable Raleigh - ECPv6.15.20//NONSGML v1.0//EN
CALSCALE:GREGORIAN
METHOD:PUBLISH
X-WR-CALNAME:Livable Raleigh
X-ORIGINAL-URL:https://livableraleigh.com
X-WR-CALDESC:Events for Livable Raleigh
REFRESH-INTERVAL;VALUE=DURATION:PT1H
X-Robots-Tag:noindex
X-PUBLISHED-TTL:PT1H
BEGIN:VTIMEZONE
TZID:America/New_York
BEGIN:DAYLIGHT
TZOFFSETFROM:-0500
TZOFFSETTO:-0400
TZNAME:EDT
DTSTART:20230312T070000
END:DAYLIGHT
BEGIN:STANDARD
TZOFFSETFROM:-0400
TZOFFSETTO:-0500
TZNAME:EST
DTSTART:20231105T060000
END:STANDARD
BEGIN:DAYLIGHT
TZOFFSETFROM:-0500
TZOFFSETTO:-0400
TZNAME:EDT
DTSTART:20240310T070000
END:DAYLIGHT
BEGIN:STANDARD
TZOFFSETFROM:-0400
TZOFFSETTO:-0500
TZNAME:EST
DTSTART:20241103T060000
END:STANDARD
BEGIN:DAYLIGHT
TZOFFSETFROM:-0500
TZOFFSETTO:-0400
TZNAME:EDT
DTSTART:20250309T070000
END:DAYLIGHT
BEGIN:STANDARD
TZOFFSETFROM:-0400
TZOFFSETTO:-0500
TZNAME:EST
DTSTART:20251102T060000
END:STANDARD
END:VTIMEZONE
BEGIN:VEVENT
DTSTART;TZID=America/New_York:20240621T150000
DTEND;TZID=America/New_York:20240621T170000
DTSTAMP:20260422T125948
CREATED:20240607T173915Z
LAST-MODIFIED:20240607T173915Z
UID:38603-1718982000-1718989200@livableraleigh.com
SUMMARY:Norman Builds A Park
DESCRIPTION:Join Raleigh Parks to commemorate Dr. Norman Camp and the history of Walnut Creek Wetland Park.\nCelebrate the installation of a larger-than-life storybook and enjoy a live reading of Norman Builds A Park.  This children’s book tells the story of Dr. Camp’s commitment and contribution to the Southeast Raleigh community. There will be speakers\, food trucks\, and guided tours of the park. \nRSVP to Kyleene Rooks by June 19 at kyleene.rooks@raleighnc.gov or 919-996-2760. \nAges: AllCost: Free
URL:https://livableraleigh.com/event/norman-builds-a-park/
LOCATION:Walnut Creek Wetland Center\, 950 Peterson St\, Raleigh\, NC\, 27610
CATEGORIES:Parks & Rec
END:VEVENT
END:VCALENDAR