BEGIN:VCALENDAR
VERSION:2.0
PRODID:-//Livable Raleigh - ECPv6.15.20//NONSGML v1.0//EN
CALSCALE:GREGORIAN
METHOD:PUBLISH
X-WR-CALNAME:Livable Raleigh
X-ORIGINAL-URL:https://livableraleigh.com
X-WR-CALDESC:Events for Livable Raleigh
REFRESH-INTERVAL;VALUE=DURATION:PT1H
X-Robots-Tag:noindex
X-PUBLISHED-TTL:PT1H
BEGIN:VTIMEZONE
TZID:America/New_York
BEGIN:DAYLIGHT
TZOFFSETFROM:-0500
TZOFFSETTO:-0400
TZNAME:EDT
DTSTART:20230312T070000
END:DAYLIGHT
BEGIN:STANDARD
TZOFFSETFROM:-0400
TZOFFSETTO:-0500
TZNAME:EST
DTSTART:20231105T060000
END:STANDARD
BEGIN:DAYLIGHT
TZOFFSETFROM:-0500
TZOFFSETTO:-0400
TZNAME:EDT
DTSTART:20240310T070000
END:DAYLIGHT
BEGIN:STANDARD
TZOFFSETFROM:-0400
TZOFFSETTO:-0500
TZNAME:EST
DTSTART:20241103T060000
END:STANDARD
BEGIN:DAYLIGHT
TZOFFSETFROM:-0500
TZOFFSETTO:-0400
TZNAME:EDT
DTSTART:20250309T070000
END:DAYLIGHT
BEGIN:STANDARD
TZOFFSETFROM:-0400
TZOFFSETTO:-0500
TZNAME:EST
DTSTART:20251102T060000
END:STANDARD
END:VTIMEZONE
BEGIN:VEVENT
DTSTART;TZID=America/New_York:20240619T180000
DTEND;TZID=America/New_York:20240619T200000
DTSTAMP:20260422T085011
CREATED:20240505T004702Z
LAST-MODIFIED:20240505T004702Z
UID:37913-1718820000-1718827200@livableraleigh.com
SUMMARY:African Cultured Expressions of the Arts
DESCRIPTION:We are providing a platform to celebrate creativity and cultural heritage through creative expression\, culture\, and society.\nAfrican Cultured Expressions of the Arts entails an in-depth knowledge of African textiles and how to create quilts and other crafts using African fabrics. \nCelebrate Juneteenth by attending our African Cultured Expressions of the Arts “Sewcial” on June 19 as we explore Ankara fabrics and African American quilts that tell stories\, document family trees\, and maintain memories of our heritage. \nThe history of quilting in Black American culture began as early as the 17th century\, with enslaved women threading\, sewing\, and quilting together patchwork blankets made with scraps of fabric – purely to keep themselves and their families warm throughout the night. Quilts preserve black history\, culture and storytelling as art. Attendees will be allowed to explore our African American History Museum exhibit\, make take-home crafts using African fabrics to harvest and register on-site for upcoming quilting workshops at John P. “Top” Greene African American Cultural Center. \nAges: AllCost: Free
URL:https://livableraleigh.com/event/african-cultured-expressions-of-the-arts/
LOCATION:John Greene Park\, 401 Martin Luther King Jr Blvd
CATEGORIES:Parks & Rec
END:VEVENT
END:VCALENDAR