BEGIN:VCALENDAR
VERSION:2.0
PRODID:-//Livable Raleigh - ECPv6.15.20//NONSGML v1.0//EN
CALSCALE:GREGORIAN
METHOD:PUBLISH
X-ORIGINAL-URL:https://livableraleigh.com
X-WR-CALDESC:Events for Livable Raleigh
REFRESH-INTERVAL;VALUE=DURATION:PT1H
X-Robots-Tag:noindex
X-PUBLISHED-TTL:PT1H
BEGIN:VTIMEZONE
TZID:America/New_York
BEGIN:DAYLIGHT
TZOFFSETFROM:-0500
TZOFFSETTO:-0400
TZNAME:EDT
DTSTART:20230312T070000
END:DAYLIGHT
BEGIN:STANDARD
TZOFFSETFROM:-0400
TZOFFSETTO:-0500
TZNAME:EST
DTSTART:20231105T060000
END:STANDARD
BEGIN:DAYLIGHT
TZOFFSETFROM:-0500
TZOFFSETTO:-0400
TZNAME:EDT
DTSTART:20240310T070000
END:DAYLIGHT
BEGIN:STANDARD
TZOFFSETFROM:-0400
TZOFFSETTO:-0500
TZNAME:EST
DTSTART:20241103T060000
END:STANDARD
BEGIN:DAYLIGHT
TZOFFSETFROM:-0500
TZOFFSETTO:-0400
TZNAME:EDT
DTSTART:20250309T070000
END:DAYLIGHT
BEGIN:STANDARD
TZOFFSETFROM:-0400
TZOFFSETTO:-0500
TZNAME:EST
DTSTART:20251102T060000
END:STANDARD
END:VTIMEZONE
BEGIN:VEVENT
DTSTART;TZID=America/New_York:20240613T160000
DTEND;TZID=America/New_York:20240613T180000
DTSTAMP:20260422T130937
CREATED:20240607T173207Z
LAST-MODIFIED:20240607T173207Z
UID:38592-1718294400-1718301600@livableraleigh.com
SUMMARY:Baileywick Park Celebration
DESCRIPTION:Join us to celebrate the new amenities at Baileywick Park! Enjoy activities and other fun under the new multi-sport pavilion. \nActivity Schedule\n\nPickleball Open Play –  4–4:30 p.m. \nPound Fitness Demo – 4:45–5:45 p.m.Sessions are 4:45-5:15 p.m. and 5:15-5:45 p.m.Channel your inner Rockstar with this 30-minute full-body cardio jam session of a workout inspired by drumming. Using lightly weighted exercise drumsticks\, torch calories\, and tone up while rocking out to your favorite music.\nBasketball Skills Class – 4:45–5:45 p.m. This fun and instructional class is designed for players interested in learning the fundamentals of basketball. Skills will be concentrated on basic ball handling\, passing\, right and left-hand lay-ups\, shooting fundamentals\, basic defensive stance and body movement.\nDrop-in Play – 4:45–5:45 p.m.\n\nRSVP to RSVP@raleighnc.gov or call 919-996-3285. \nDate: Thursday\, June 13Time: 4–6 p.m. Ages: AllCost: Free
URL:https://livableraleigh.com/event/baileywick-park-celebration/
LOCATION:Baileywick Park\, 9501 Baileywick Road\, Raleigh\, NC\, 27615
CATEGORIES:Parks & Rec
END:VEVENT
END:VCALENDAR