BEGIN:VCALENDAR
VERSION:2.0
PRODID:-//Livable Raleigh - ECPv6.15.20//NONSGML v1.0//EN
CALSCALE:GREGORIAN
METHOD:PUBLISH
X-WR-CALNAME:Livable Raleigh
X-ORIGINAL-URL:https://livableraleigh.com
X-WR-CALDESC:Events for Livable Raleigh
REFRESH-INTERVAL;VALUE=DURATION:PT1H
X-Robots-Tag:noindex
X-PUBLISHED-TTL:PT1H
BEGIN:VTIMEZONE
TZID:America/New_York
BEGIN:DAYLIGHT
TZOFFSETFROM:-0500
TZOFFSETTO:-0400
TZNAME:EDT
DTSTART:20230312T070000
END:DAYLIGHT
BEGIN:STANDARD
TZOFFSETFROM:-0400
TZOFFSETTO:-0500
TZNAME:EST
DTSTART:20231105T060000
END:STANDARD
BEGIN:DAYLIGHT
TZOFFSETFROM:-0500
TZOFFSETTO:-0400
TZNAME:EDT
DTSTART:20240310T070000
END:DAYLIGHT
BEGIN:STANDARD
TZOFFSETFROM:-0400
TZOFFSETTO:-0500
TZNAME:EST
DTSTART:20241103T060000
END:STANDARD
BEGIN:DAYLIGHT
TZOFFSETFROM:-0500
TZOFFSETTO:-0400
TZNAME:EDT
DTSTART:20250309T070000
END:DAYLIGHT
BEGIN:STANDARD
TZOFFSETFROM:-0400
TZOFFSETTO:-0500
TZNAME:EST
DTSTART:20251102T060000
END:STANDARD
END:VTIMEZONE
BEGIN:VEVENT
DTSTART;TZID=America/New_York:20240609T130000
DTEND;TZID=America/New_York:20240609T160000
DTSTAMP:20260422T115433
CREATED:20240518T031645Z
LAST-MODIFIED:20240518T031645Z
UID:38203-1717938000-1717948800@livableraleigh.com
SUMMARY:Pride Ride: LGBTQ+ Trolley Tour
DESCRIPTION:Join Raleigh Historic Sites and the LGBT Center of Raleigh for a ‘Pride Ride’ celebrating the city’s LGBTQ+ history!\nThis tour will highlight historic locations\, neighborhoods\, businesses\, churches\, and other points of interest important to the evolution of Raleigh’s LGBTQ+ community. \nThe LGBT Center will host a table to share information about their programs\, resources\, and the 12th annual Out! Raleigh Pride festival. \nFor questions or more information\, please call the Mordecai Historic Park Visitor Center at 919-996-4364. \nTimes: 1 p.m.\, 2 p.m.\, and 3 p.m.Ages: AllCost: $12 per person
URL:https://livableraleigh.com/event/pride-ride-lgbtq-trolley-tour/
LOCATION:Mordecai Historic Park\, 1 Mimosa St\, Raleigh\, NC\, 27604
CATEGORIES:Parks & Rec
END:VEVENT
BEGIN:VEVENT
DTSTART;TZID=America/New_York:20240609T180000
DTEND;TZID=America/New_York:20240609T200000
DTSTAMP:20260422T115433
CREATED:20240524T013348Z
LAST-MODIFIED:20240524T013348Z
UID:38306-1717956000-1717963200@livableraleigh.com
SUMMARY:Summer Concert Series - Fred Fletcher Park
DESCRIPTION:Our Summer Concert Series is back!\nWe look forward to seeing you all at the parks and enjoy some music from our local bands. Concerts are Free! Bring your own chair or blanket. \nPullen Park520 Ashe Ave\, Raleigh\, NC\nJune 30 – Triangle TaikoSept. 15 – The British Invaders Band \nFred Fletcher Park820 Clay Street\, Raleigh NC\nJune 9 – Carpe Diem Sax QuartetJune 23 – Capital TransitJuly 28 – Tune SwingersAugust 18 – TheloniousAugust 25 – TBDSept. 8 – SWAGSept. 22 – Raleigh Concert Band \nSunday EveningsJune and July\, 6 – 8 p.m.Aug. and Sept.\, 5 – 7 p.m. Ages: AllCost: FreeConcerts may be canceled for inclement. Performers may change without notice. Food is not available at Fred Fletcher Park.
URL:https://livableraleigh.com/event/summer-concert-series-fred-fletcher-park-2/
LOCATION:Fred Fletcher Park\, 820 Clay St\, Raleigh\, NC\, 27605
CATEGORIES:Parks & Rec
END:VEVENT
END:VCALENDAR