BEGIN:VCALENDAR
VERSION:2.0
PRODID:-//Livable Raleigh - ECPv6.15.20//NONSGML v1.0//EN
CALSCALE:GREGORIAN
METHOD:PUBLISH
X-ORIGINAL-URL:https://livableraleigh.com
X-WR-CALDESC:Events for Livable Raleigh
REFRESH-INTERVAL;VALUE=DURATION:PT1H
X-Robots-Tag:noindex
X-PUBLISHED-TTL:PT1H
BEGIN:VTIMEZONE
TZID:America/New_York
BEGIN:DAYLIGHT
TZOFFSETFROM:-0500
TZOFFSETTO:-0400
TZNAME:EDT
DTSTART:20230312T070000
END:DAYLIGHT
BEGIN:STANDARD
TZOFFSETFROM:-0400
TZOFFSETTO:-0500
TZNAME:EST
DTSTART:20231105T060000
END:STANDARD
BEGIN:DAYLIGHT
TZOFFSETFROM:-0500
TZOFFSETTO:-0400
TZNAME:EDT
DTSTART:20240310T070000
END:DAYLIGHT
BEGIN:STANDARD
TZOFFSETFROM:-0400
TZOFFSETTO:-0500
TZNAME:EST
DTSTART:20241103T060000
END:STANDARD
BEGIN:DAYLIGHT
TZOFFSETFROM:-0500
TZOFFSETTO:-0400
TZNAME:EDT
DTSTART:20250309T070000
END:DAYLIGHT
BEGIN:STANDARD
TZOFFSETFROM:-0400
TZOFFSETTO:-0500
TZNAME:EST
DTSTART:20251102T060000
END:STANDARD
END:VTIMEZONE
BEGIN:VEVENT
DTSTART;TZID=America/New_York:20240531T183000
DTEND;TZID=America/New_York:20240531T200000
DTSTAMP:20260422T232457
CREATED:20240518T025650Z
LAST-MODIFIED:20240518T025651Z
UID:38199-1717180200-1717185600@livableraleigh.com
SUMMARY:World Cup Soccer Mini-Tournament
DESCRIPTION:Wear your favorite jersey or team colors and come out to Method Road Community Center for a fun soccer competition with friends.\nIn this action-packed\, shooting-oriented game\, 1-2 person teams\, or “countries” will try to score to advance to the next round. Prizes for winners\, and treats for all! \nAges: 12 – 17Cost: Free
URL:https://livableraleigh.com/event/world-cup-soccer-mini-tournament/
LOCATION:Method Road Community Center\, 514 Method Road\, Raleigh\, NC\, United States
CATEGORIES:Parks & Rec
END:VEVENT
END:VCALENDAR