BEGIN:VCALENDAR
VERSION:2.0
PRODID:-//Livable Raleigh - ECPv6.15.20//NONSGML v1.0//EN
CALSCALE:GREGORIAN
METHOD:PUBLISH
X-WR-CALNAME:Livable Raleigh
X-ORIGINAL-URL:https://livableraleigh.com
X-WR-CALDESC:Events for Livable Raleigh
REFRESH-INTERVAL;VALUE=DURATION:PT1H
X-Robots-Tag:noindex
X-PUBLISHED-TTL:PT1H
BEGIN:VTIMEZONE
TZID:America/New_York
BEGIN:DAYLIGHT
TZOFFSETFROM:-0500
TZOFFSETTO:-0400
TZNAME:EDT
DTSTART:20230312T070000
END:DAYLIGHT
BEGIN:STANDARD
TZOFFSETFROM:-0400
TZOFFSETTO:-0500
TZNAME:EST
DTSTART:20231105T060000
END:STANDARD
BEGIN:DAYLIGHT
TZOFFSETFROM:-0500
TZOFFSETTO:-0400
TZNAME:EDT
DTSTART:20240310T070000
END:DAYLIGHT
BEGIN:STANDARD
TZOFFSETFROM:-0400
TZOFFSETTO:-0500
TZNAME:EST
DTSTART:20241103T060000
END:STANDARD
BEGIN:DAYLIGHT
TZOFFSETFROM:-0500
TZOFFSETTO:-0400
TZNAME:EDT
DTSTART:20250309T070000
END:DAYLIGHT
BEGIN:STANDARD
TZOFFSETFROM:-0400
TZOFFSETTO:-0500
TZNAME:EST
DTSTART:20251102T060000
END:STANDARD
END:VTIMEZONE
BEGIN:VEVENT
DTSTART;TZID=America/New_York:20240525T130000
DTEND;TZID=America/New_York:20240525T160000
DTSTAMP:20260422T181542
CREATED:20240412T202131Z
LAST-MODIFIED:20240412T202131Z
UID:37553-1716642000-1716652800@livableraleigh.com
SUMMARY:Home Movie Day
DESCRIPTION:Bring your home movies (8mm\, Super8mm\, 16mm motion picture film) or home videos (VHS) to the Top Greene Community Center between 1 and 4 p.m. on Saturday\, May 25. \nMoving image archivists will be on hand to inspect what you bring\, provide information on the format and any preservation issues\, screen your film or video if you would like to show it\, and make a digital copy of it for free!  You do not have to publicly screen your film or video to have it digitized. You do not have to have a film or video to bring to participate in and enjoy this event! \nGo up in the attic\, dig through those dusty boxes\, call grandma\, discover your family’s hidden treasure trove of old home movies\, and bring them to Home Movie Day! \nFREE consultations with A/V Geeks’ expert staff will be available in 15-minute slots from 1 – 4 p.m. on a first come first serve basis. They will digitize up to 15 minutes of your footage free for you while you wait! \nAges: All\nCost: Free
URL:https://livableraleigh.com/event/home-movie-day/
LOCATION:John Greene Park\, 401 Martin Luther King Jr Blvd
CATEGORIES:Parks & Rec
END:VEVENT
END:VCALENDAR