BEGIN:VCALENDAR
VERSION:2.0
PRODID:-//Livable Raleigh - ECPv6.15.20//NONSGML v1.0//EN
CALSCALE:GREGORIAN
METHOD:PUBLISH
X-WR-CALNAME:Livable Raleigh
X-ORIGINAL-URL:https://livableraleigh.com
X-WR-CALDESC:Events for Livable Raleigh
REFRESH-INTERVAL;VALUE=DURATION:PT1H
X-Robots-Tag:noindex
X-PUBLISHED-TTL:PT1H
BEGIN:VTIMEZONE
TZID:America/New_York
BEGIN:DAYLIGHT
TZOFFSETFROM:-0500
TZOFFSETTO:-0400
TZNAME:EDT
DTSTART:20230312T070000
END:DAYLIGHT
BEGIN:STANDARD
TZOFFSETFROM:-0400
TZOFFSETTO:-0500
TZNAME:EST
DTSTART:20231105T060000
END:STANDARD
BEGIN:DAYLIGHT
TZOFFSETFROM:-0500
TZOFFSETTO:-0400
TZNAME:EDT
DTSTART:20240310T070000
END:DAYLIGHT
BEGIN:STANDARD
TZOFFSETFROM:-0400
TZOFFSETTO:-0500
TZNAME:EST
DTSTART:20241103T060000
END:STANDARD
BEGIN:DAYLIGHT
TZOFFSETFROM:-0500
TZOFFSETTO:-0400
TZNAME:EDT
DTSTART:20250309T070000
END:DAYLIGHT
BEGIN:STANDARD
TZOFFSETFROM:-0400
TZOFFSETTO:-0500
TZNAME:EST
DTSTART:20251102T060000
END:STANDARD
END:VTIMEZONE
BEGIN:VEVENT
DTSTART;TZID=America/New_York:20240517T180000
DTEND;TZID=America/New_York:20240517T200000
DTSTAMP:20260422T154701
CREATED:20240427T131857Z
LAST-MODIFIED:20240427T131857Z
UID:37766-1715968800-1715976000@livableraleigh.com
SUMMARY:Princess & Prince Tea Party
DESCRIPTION:Join us for an evening of enchanted fun with a New Orleans flare.\nIndulge in fun activities\, sweet treats\, and a meet-and-greet with a prince and a beloved princess! It’s a magical experience you won’t want to miss! \nFeel free to dress in your favorite princess and prince outfit. We Can’t wait to see you\, “You’re almost There.” \nAges: 0 – 12Cost: $15 per childRegister on RecLink
URL:https://livableraleigh.com/event/princess-prince-tea-party/
LOCATION:Roberts Park Community Center\, 1300 E. Martin St\, Raleigh\, NC\, 27610
CATEGORIES:Parks & Rec
END:VEVENT
END:VCALENDAR