BEGIN:VCALENDAR
VERSION:2.0
PRODID:-//Livable Raleigh - ECPv6.15.20//NONSGML v1.0//EN
CALSCALE:GREGORIAN
METHOD:PUBLISH
X-ORIGINAL-URL:https://livableraleigh.com
X-WR-CALDESC:Events for Livable Raleigh
REFRESH-INTERVAL;VALUE=DURATION:PT1H
X-Robots-Tag:noindex
X-PUBLISHED-TTL:PT1H
BEGIN:VTIMEZONE
TZID:America/New_York
BEGIN:DAYLIGHT
TZOFFSETFROM:-0500
TZOFFSETTO:-0400
TZNAME:EDT
DTSTART:20230312T070000
END:DAYLIGHT
BEGIN:STANDARD
TZOFFSETFROM:-0400
TZOFFSETTO:-0500
TZNAME:EST
DTSTART:20231105T060000
END:STANDARD
BEGIN:DAYLIGHT
TZOFFSETFROM:-0500
TZOFFSETTO:-0400
TZNAME:EDT
DTSTART:20240310T070000
END:DAYLIGHT
BEGIN:STANDARD
TZOFFSETFROM:-0400
TZOFFSETTO:-0500
TZNAME:EST
DTSTART:20241103T060000
END:STANDARD
BEGIN:DAYLIGHT
TZOFFSETFROM:-0500
TZOFFSETTO:-0400
TZNAME:EDT
DTSTART:20250309T070000
END:DAYLIGHT
BEGIN:STANDARD
TZOFFSETFROM:-0400
TZOFFSETTO:-0500
TZNAME:EST
DTSTART:20251102T060000
END:STANDARD
END:VTIMEZONE
BEGIN:VEVENT
DTSTART;TZID=America/New_York:20240511T090000
DTEND;TZID=America/New_York:20240511T130000
DTSTAMP:20260422T182241
CREATED:20240412T201536Z
LAST-MODIFIED:20240412T201536Z
UID:37547-1715418000-1715432400@livableraleigh.com
SUMMARY:Raleigh's Appraisal Fair
DESCRIPTION:The professional accredited Appraisers from Leland Little Auctions will educate you on your special treasures.\nCome down to the City of Raleigh Museum and enjoy some coffee while you talk to the pros. \nAges: 18 and upCost: $20-$50Get Tickets to Raleigh’s Appraisal Fair
URL:https://livableraleigh.com/event/raleighs-appraisal-fair/
LOCATION:City of Raleigh Museum\, 220 Fayetteville St\, Raleigh\, NC\, 27601
CATEGORIES:Parks & Rec
END:VEVENT
BEGIN:VEVENT
DTSTART;TZID=America/New_York:20240511T100000
DTEND;TZID=America/New_York:20240511T160000
DTSTAMP:20260422T182241
CREATED:20240427T131157Z
LAST-MODIFIED:20240427T131157Z
UID:37761-1715421600-1715443200@livableraleigh.com
SUMMARY:Matriarchs of Mordecai
DESCRIPTION:Explore the stories of the women of Mordecai Historic Park during this special event!\nTake a themed park tour\, drop in for craft demonstrations by the Sir Walter Lacers and Tri-Tatters\, and enjoy hearth cooking in our historic kitchen. Try historic yard games and a Hands-on History craft\, or hop on the Historic Raleigh Trolley for a special women’s history tour of downtown. \nPark and trolley tours are ticketed; all other activities are free. Purchase tickets at the Mordecai Historic Park Visitor Center or online at reclink.raleighnc.gov (trolley only). For more information\, please call 919-996-4364. \nAge: AllCost: FreePark and trolley tours are ticketed; other activities are free.Get Trolley Ticket on RecLink
URL:https://livableraleigh.com/event/matriarchs-of-mordecai/
LOCATION:Mordecai Historic Park\, 1 Mimosa St\, Raleigh\, NC\, 27604
CATEGORIES:Parks & Rec
END:VEVENT
BEGIN:VEVENT
DTSTART;TZID=America/New_York:20240511T140000
DTEND;TZID=America/New_York:20240511T160000
DTSTAMP:20260422T182241
CREATED:20240412T201703Z
LAST-MODIFIED:20240412T201703Z
UID:37549-1715436000-1715443200@livableraleigh.com
SUMMARY:Mother's Day Jewelry Making
DESCRIPTION:Celebrate Motherhood and Mothers from around the world on Saturday\, May 11 at Peach Road Park.\nShare wonderful moments with your family and neighbors as you create your own jewelry\, and take your creations home with you! Children\, Fathers\, Grandparents\, and any Caregivers are welcome to attend. \nAges: AllCost: FreeRegister on RecLink
URL:https://livableraleigh.com/event/mothers-day-jewelry-making/
LOCATION:Peach Road Cultural Center\, 911 Ileagnes Road\, Raleigh\, 27603
CATEGORIES:Parks & Rec
END:VEVENT
BEGIN:VEVENT
DTSTART;TZID=America/New_York:20240511T170000
DTEND;TZID=America/New_York:20240511T190000
DTSTAMP:20260422T182241
CREATED:20240427T131308Z
LAST-MODIFIED:20240427T131308Z
UID:37763-1715446800-1715454000@livableraleigh.com
SUMMARY:Mexico vs. Guatemala! Consulate Soccer Match
DESCRIPTION:Join us at Peach Road Cultural Center for our epic soccer re-match!\nThe Mexican Consulate will try to retain their winning record as they face the Guatemalan Consulate once more in a battle of skill\, heart\, but most of all\, friendship. \nBring the whole family and enjoy soccer\, music\, food trucks\, and the community.  Come early for our children’s pre-game match at 4:45 p.m.\, and cheer your little ones on in a kids’ half-time shootout! \nAges: AllCost: Free
URL:https://livableraleigh.com/event/mexico-vs-guatemala-consulate-soccer-match/
LOCATION:Peach Road Cultural Center\, 911 Ileagnes Road\, Raleigh\, 27603
CATEGORIES:Parks & Rec
END:VEVENT
END:VCALENDAR