BEGIN:VCALENDAR
VERSION:2.0
PRODID:-//Livable Raleigh - ECPv6.15.20//NONSGML v1.0//EN
CALSCALE:GREGORIAN
METHOD:PUBLISH
X-ORIGINAL-URL:https://livableraleigh.com
X-WR-CALDESC:Events for Livable Raleigh
REFRESH-INTERVAL;VALUE=DURATION:PT1H
X-Robots-Tag:noindex
X-PUBLISHED-TTL:PT1H
BEGIN:VTIMEZONE
TZID:America/New_York
BEGIN:DAYLIGHT
TZOFFSETFROM:-0500
TZOFFSETTO:-0400
TZNAME:EDT
DTSTART:20230312T070000
END:DAYLIGHT
BEGIN:STANDARD
TZOFFSETFROM:-0400
TZOFFSETTO:-0500
TZNAME:EST
DTSTART:20231105T060000
END:STANDARD
BEGIN:DAYLIGHT
TZOFFSETFROM:-0500
TZOFFSETTO:-0400
TZNAME:EDT
DTSTART:20240310T070000
END:DAYLIGHT
BEGIN:STANDARD
TZOFFSETFROM:-0400
TZOFFSETTO:-0500
TZNAME:EST
DTSTART:20241103T060000
END:STANDARD
BEGIN:DAYLIGHT
TZOFFSETFROM:-0500
TZOFFSETTO:-0400
TZNAME:EDT
DTSTART:20250309T070000
END:DAYLIGHT
BEGIN:STANDARD
TZOFFSETFROM:-0400
TZOFFSETTO:-0500
TZNAME:EST
DTSTART:20251102T060000
END:STANDARD
END:VTIMEZONE
BEGIN:VEVENT
DTSTART;TZID=America/New_York:20240503T170000
DTEND;TZID=America/New_York:20240503T210000
DTSTAMP:20260422T130147
CREATED:20240427T125833Z
LAST-MODIFIED:20240427T125833Z
UID:37749-1714755600-1714770000@livableraleigh.com
SUMMARY:First Order Friday at Moore Square
DESCRIPTION:Travel to a galaxy far\, far away in the heart of Downtown Raleigh at First Order Friday!\nActivities Include\n\nFree screening of Star Wars: The Force Awakens under the stars at 7:30 p.m.\nPhoto ops with Star Wars cosplayers (costumes encouraged!)\nStar Wars caricature drawings and crafts\nVendor market curated by Get2Know Raleigh\nFood trucks\nAnd more!\n\nAges: AllCost: Free
URL:https://livableraleigh.com/event/first-order-friday-at-moore-square/
LOCATION:Moore Square\, 200 S. Blount St.\, Raleigh\, NC\, 27601
CATEGORIES:Parks & Rec
END:VEVENT
BEGIN:VEVENT
DTSTART;TZID=America/New_York:20240503T180000
DTEND;TZID=America/New_York:20240503T210000
DTSTAMP:20260422T130147
CREATED:20240427T125945Z
LAST-MODIFIED:20240427T125945Z
UID:37751-1714759200-1714770000@livableraleigh.com
SUMMARY:First Friday: Mental Health Awareness
DESCRIPTION:Join us on Friday\, May 3 at the City of Raleigh Museum.\nWe’ll feature therapy dogs provided by Helping Paw International\, crafting activities\, handouts on mental health toolkits\, and valuable information about mental health support services. \nLocal author and artist\, Lord Phly\, will have copies of his new children’s book called “A Time To Fly” available. \nAges: AllCost: Free
URL:https://livableraleigh.com/event/first-friday-mental-health-awareness/
LOCATION:City of Raleigh Museum\, 220 Fayetteville St\, Raleigh\, NC\, 27601
CATEGORIES:Parks & Rec
END:VEVENT
END:VCALENDAR