BEGIN:VCALENDAR
VERSION:2.0
PRODID:-//Livable Raleigh - ECPv6.15.20//NONSGML v1.0//EN
CALSCALE:GREGORIAN
METHOD:PUBLISH
X-ORIGINAL-URL:https://livableraleigh.com
X-WR-CALDESC:Events for Livable Raleigh
REFRESH-INTERVAL;VALUE=DURATION:PT1H
X-Robots-Tag:noindex
X-PUBLISHED-TTL:PT1H
BEGIN:VTIMEZONE
TZID:America/New_York
BEGIN:DAYLIGHT
TZOFFSETFROM:-0500
TZOFFSETTO:-0400
TZNAME:EDT
DTSTART:20230312T070000
END:DAYLIGHT
BEGIN:STANDARD
TZOFFSETFROM:-0400
TZOFFSETTO:-0500
TZNAME:EST
DTSTART:20231105T060000
END:STANDARD
BEGIN:DAYLIGHT
TZOFFSETFROM:-0500
TZOFFSETTO:-0400
TZNAME:EDT
DTSTART:20240310T070000
END:DAYLIGHT
BEGIN:STANDARD
TZOFFSETFROM:-0400
TZOFFSETTO:-0500
TZNAME:EST
DTSTART:20241103T060000
END:STANDARD
BEGIN:DAYLIGHT
TZOFFSETFROM:-0500
TZOFFSETTO:-0400
TZNAME:EDT
DTSTART:20250309T070000
END:DAYLIGHT
BEGIN:STANDARD
TZOFFSETFROM:-0400
TZOFFSETTO:-0500
TZNAME:EST
DTSTART:20251102T060000
END:STANDARD
END:VTIMEZONE
BEGIN:VEVENT
DTSTART;TZID=America/New_York:20240425T100000
DTEND;TZID=America/New_York:20240425T113000
DTSTAMP:20260422T142557
CREATED:20240405T131322Z
LAST-MODIFIED:20240405T131322Z
UID:37338-1714039200-1714044600@livableraleigh.com
SUMMARY:Kyle Drive Park Public Site Visit
DESCRIPTION:Discover the future of Kyle Drive Park!\nJoin Raleigh Parks on an engaging tour to preview the proposed master plan for Kyle Drive Park\, located at 4700 Kyle Drive. Get ready to explore the site\, which includes a stream\, wetland\, and diverse landscape. Be sure to wear closed-toed shoes and consider bringing water\, bug spray\, and sunscreen for a comfortable hike. \nParking is available along Kyle Drive near the site. Site visits will begin at the Duke Energy utility easement along Kyle Drive.
URL:https://livableraleigh.com/event/kyle-drive-park-public-site-visit/
LOCATION:Kyle Drive Park\, 4700 Kyle Drive\, Raleigh\, NC\, 27616
CATEGORIES:Engagement Filter,Parks & Rec
END:VEVENT
BEGIN:VEVENT
DTSTART;TZID=America/New_York:20240425T180000
DTEND;TZID=America/New_York:20240425T190000
DTSTAMP:20260422T142557
CREATED:20240405T131521Z
LAST-MODIFIED:20240405T131536Z
UID:37341-1714068000-1714071600@livableraleigh.com
SUMMARY:Green Road Park Site Improvement Presentation
DESCRIPTION:Please join the 3rd public meeting for the Green Road Park Site Improvement Project.\nThe design consultant team will formally present the final drafted schematic design concept. \nAges: AllCost: Free
URL:https://livableraleigh.com/event/green-road-park-site-improvement-presentation/
LOCATION:Green Rd Community Center\, 4201 Green Rd\, Raleigh\, NC\, 27604
CATEGORIES:Community Engagement,Engagement Filter,Parks & Rec
END:VEVENT
BEGIN:VEVENT
DTSTART;TZID=America/New_York:20240425T180000
DTEND;TZID=America/New_York:20240425T210000
DTSTAMP:20260422T142557
CREATED:20240323T001759Z
LAST-MODIFIED:20240323T001759Z
UID:37234-1714068000-1714078800@livableraleigh.com
SUMMARY:Diamond Days Exhibit Opening
DESCRIPTION:Enjoy hot dogs\, popcorn and beverages at the museum while checking out our newest exhibit on the history of baseball in Raleigh! \nAges: AllCost: Free
URL:https://livableraleigh.com/event/diamond-days-exhibit-opening/
LOCATION:City of Raleigh Museum\, 220 Fayetteville St\, Raleigh\, NC\, 27601
CATEGORIES:Parks & Rec
END:VEVENT
END:VCALENDAR