BEGIN:VCALENDAR
VERSION:2.0
PRODID:-//Livable Raleigh - ECPv6.15.20//NONSGML v1.0//EN
CALSCALE:GREGORIAN
METHOD:PUBLISH
X-ORIGINAL-URL:https://livableraleigh.com
X-WR-CALDESC:Events for Livable Raleigh
REFRESH-INTERVAL;VALUE=DURATION:PT1H
X-Robots-Tag:noindex
X-PUBLISHED-TTL:PT1H
BEGIN:VTIMEZONE
TZID:America/New_York
BEGIN:DAYLIGHT
TZOFFSETFROM:-0500
TZOFFSETTO:-0400
TZNAME:EDT
DTSTART:20230312T070000
END:DAYLIGHT
BEGIN:STANDARD
TZOFFSETFROM:-0400
TZOFFSETTO:-0500
TZNAME:EST
DTSTART:20231105T060000
END:STANDARD
BEGIN:DAYLIGHT
TZOFFSETFROM:-0500
TZOFFSETTO:-0400
TZNAME:EDT
DTSTART:20240310T070000
END:DAYLIGHT
BEGIN:STANDARD
TZOFFSETFROM:-0400
TZOFFSETTO:-0500
TZNAME:EST
DTSTART:20241103T060000
END:STANDARD
BEGIN:DAYLIGHT
TZOFFSETFROM:-0500
TZOFFSETTO:-0400
TZNAME:EDT
DTSTART:20250309T070000
END:DAYLIGHT
BEGIN:STANDARD
TZOFFSETFROM:-0400
TZOFFSETTO:-0500
TZNAME:EST
DTSTART:20251102T060000
END:STANDARD
END:VTIMEZONE
BEGIN:VEVENT
DTSTART;TZID=America/New_York:20240406T100000
DTEND;TZID=America/New_York:20240406T130000
DTSTAMP:20260422T142617
CREATED:20240302T184129Z
LAST-MODIFIED:20240302T184129Z
UID:36734-1712397600-1712408400@livableraleigh.com
SUMMARY:Quadball Extravaganza!
DESCRIPTION:Inspired by the sport of quidditch\, Quadball\, combines physical activity with fun! Participants will have the opportunity to learn the fundamentals of the game\, communication\, and the importance of teambuilding from NCSU and UNC’s most experienced players. Participants will make their own brooms and run through interactive drills. We will finish out the day putting our newfound skills to use playing a match. T-shirt\, broom\, and small snacks are included in the registration fee. Don’t forget your water! Ages: 10-13Cost: $31 Resident/$46 Non-ResidentRegister on RecLink
URL:https://livableraleigh.com/event/quadball-extravaganza/
LOCATION:Halifax Park\, 1023 Halifax Street\, Raleigh
CATEGORIES:Parks & Rec
END:VEVENT
END:VCALENDAR