BEGIN:VCALENDAR
VERSION:2.0
PRODID:-//Livable Raleigh - ECPv6.15.20//NONSGML v1.0//EN
CALSCALE:GREGORIAN
METHOD:PUBLISH
X-ORIGINAL-URL:https://livableraleigh.com
X-WR-CALDESC:Events for Livable Raleigh
REFRESH-INTERVAL;VALUE=DURATION:PT1H
X-Robots-Tag:noindex
X-PUBLISHED-TTL:PT1H
BEGIN:VTIMEZONE
TZID:America/New_York
BEGIN:DAYLIGHT
TZOFFSETFROM:-0500
TZOFFSETTO:-0400
TZNAME:EDT
DTSTART:20230312T070000
END:DAYLIGHT
BEGIN:STANDARD
TZOFFSETFROM:-0400
TZOFFSETTO:-0500
TZNAME:EST
DTSTART:20231105T060000
END:STANDARD
BEGIN:DAYLIGHT
TZOFFSETFROM:-0500
TZOFFSETTO:-0400
TZNAME:EDT
DTSTART:20240310T070000
END:DAYLIGHT
BEGIN:STANDARD
TZOFFSETFROM:-0400
TZOFFSETTO:-0500
TZNAME:EST
DTSTART:20241103T060000
END:STANDARD
BEGIN:DAYLIGHT
TZOFFSETFROM:-0500
TZOFFSETTO:-0400
TZNAME:EDT
DTSTART:20250309T070000
END:DAYLIGHT
BEGIN:STANDARD
TZOFFSETFROM:-0400
TZOFFSETTO:-0500
TZNAME:EST
DTSTART:20251102T060000
END:STANDARD
END:VTIMEZONE
BEGIN:VEVENT
DTSTART;TZID=America/New_York:20240321T143000
DTEND;TZID=America/New_York:20240321T173000
DTSTAMP:20260422T231828
CREATED:20240316T004312Z
LAST-MODIFIED:20240316T004312Z
UID:37126-1711031400-1711042200@livableraleigh.com
SUMMARY:National Teen Day Event
DESCRIPTION:National Teen Day is a day to celebrate teens for who they are and the positive contributions they make to our community and world.\nCome join us on this day as we provide teens with an environment of affirmation and celebration. Ages 12-17 (middle to high school) are invited to attend. This event will feature fun outdoor games\, food\, music\, video games and a climbing wall. Come and join the fun! \nAges: 12-17 (middle to high school)Cost: Free
URL:https://livableraleigh.com/event/national-teen-day-event/
LOCATION:Optimist Park Community Center\, 5900 Whittier Drive\, Raleigh\, 27609
CATEGORIES:Parks & Rec
END:VEVENT
BEGIN:VEVENT
DTSTART;TZID=America/New_York:20240321T180000
DTEND;TZID=America/New_York:20240321T190000
DTSTAMP:20260422T231828
CREATED:20240203T014910Z
LAST-MODIFIED:20240318T175642Z
UID:36217-1711044000-1711047600@livableraleigh.com
SUMMARY:Parks\, Recreation\, and Greenway Advisory Board
DESCRIPTION:1. Call to Order\n\n\n\n2. General Public Requests and Comments – (Please limit comments to 3 minutes)\n\n\n2.1 We invite each person wishing to speak before the Parks\, Recreation\, and Greenway Advisory Board to stand at the podium\, state your name and address\, and make your statement. Your information will be received and either placed on the next agenda\, forwarded to a subcommittee\, forwarded to the Raleigh City Council\, referred to the Raleigh Parks and Recreation Director\, or received as information.\n\n\n\n\n\n\n3. Committee Report – Liaison Representative\n\n\n3.1 Raleigh Youth Council (RYC)\n\n\n\n\n\n\n4. Presentation\n\n\n4.1 Recreation Division – Overview of Athletic Services Program: “What We Do” Series\n\n\n4.2 Smoky Hollow Park Schematic Design Presentation\nThis Agenda Item Contains an Attachment.\n\n4.3 Raleigh Parks System Plan – Project Update\n\n\n4.4 Raleigh Parks – Rezoning and Development Plan Review\n\n\n4.5 Project Update – SWING Racquet and Paddle\n\n\n4.6 FY25 PRGAB Work Plan Review Process and Creation of Ad hoc Committee\nThis Agenda Item Contains an Attachment.\n\n\n\n\n\n5. Minutes\n\n\n5.1 Approval of Meeting Minutes\nThis Agenda Item Contains an Attachment.\n\n\n\n\n\n6. Directors Report\n\n\n6.1 Director\n\n\n\n\n\n\n7. Committee Reports – Standing Committees\n\n\n7.1 Parks Committee\n\n\n7.2 Fred Fletcher Volunteer Committee\n\n\n7.3 Greenways Committee\n\n\n7.4 Sustainability\, Wildlife and Urban Trees Committee\n\n\n\n\n\n\n8. Committee Reports – Liaison Representatives\n\n\n8.1 Arts Commission and PADB\n\n\n8.2 Bicycle & Pedestrian Advisory Commission\n\n\n8.3 City of Raleigh Historic Cemeteries Advisory Board\n\n\n8.4 Dix Leadership Committee\n\n\n8.5 2024 Raleigh Environmental Awards jury\n\n\n8.6 Historic Resources and Museum Advisory Board\n\n\n8.7 PRCR Parks Bond Community Engagement Liaison Reports\nThis Agenda Item Contains an Attachment.\n\n\n\n\n\n9. Chair Report/Announcements\n\n\n9.1 Chair\n\n\n\n\n\n\n10. Board Comments or Topics for Discussion\n\n\n\n11. Adjournment\n\n\n11.1 Adjourn Meeting\n\n\n\nThe Parks\, Recreation and Greenway Advisory Board (PRGAB) will meet in-person in the Raleigh Council Chambers\, 222 W. Hargett Street at 6:00 p.m. \nThe Raleigh Parks\, Recreation\, and Greenway Advisory Board meetings are open to the public. \nThis meeting will be streamed for public viewing – watch meeting. \nThe PRGAB meets on the third Thursday of each month.
URL:https://livableraleigh.com/event/parks-recreation-and-greenway-advisory-board-5/
LOCATION:Raleigh Municipal Building\, 222 W. Hargett St.\, Raleigh\, NC\, 27601\, United States
CATEGORIES:Greenway Committee,Parks & Rec
END:VEVENT
END:VCALENDAR