BEGIN:VCALENDAR
VERSION:2.0
PRODID:-//Livable Raleigh - ECPv6.15.20//NONSGML v1.0//EN
CALSCALE:GREGORIAN
METHOD:PUBLISH
X-WR-CALNAME:Livable Raleigh
X-ORIGINAL-URL:https://livableraleigh.com
X-WR-CALDESC:Events for Livable Raleigh
REFRESH-INTERVAL;VALUE=DURATION:PT1H
X-Robots-Tag:noindex
X-PUBLISHED-TTL:PT1H
BEGIN:VTIMEZONE
TZID:America/New_York
BEGIN:DAYLIGHT
TZOFFSETFROM:-0500
TZOFFSETTO:-0400
TZNAME:EDT
DTSTART:20230312T070000
END:DAYLIGHT
BEGIN:STANDARD
TZOFFSETFROM:-0400
TZOFFSETTO:-0500
TZNAME:EST
DTSTART:20231105T060000
END:STANDARD
BEGIN:DAYLIGHT
TZOFFSETFROM:-0500
TZOFFSETTO:-0400
TZNAME:EDT
DTSTART:20240310T070000
END:DAYLIGHT
BEGIN:STANDARD
TZOFFSETFROM:-0400
TZOFFSETTO:-0500
TZNAME:EST
DTSTART:20241103T060000
END:STANDARD
BEGIN:DAYLIGHT
TZOFFSETFROM:-0500
TZOFFSETTO:-0400
TZNAME:EDT
DTSTART:20250309T070000
END:DAYLIGHT
BEGIN:STANDARD
TZOFFSETFROM:-0400
TZOFFSETTO:-0500
TZNAME:EST
DTSTART:20251102T060000
END:STANDARD
END:VTIMEZONE
BEGIN:VEVENT
DTSTART;TZID=America/New_York:20240319T100000
DTEND;TZID=America/New_York:20240319T113000
DTSTAMP:20260423T074351
CREATED:20240210T012309Z
LAST-MODIFIED:20240210T012309Z
UID:36455-1710842400-1710847800@livableraleigh.com
SUMMARY:Meet the Bunny at Abbotts Creek
DESCRIPTION:Hop Out to Abbotts Creek and Meet the Bunny.\nParticipants will have the opportunity to participate in games and crafts. After making your way through the crafts and games\, stop for a picture with the bunny and pick up a plush egg from the egg patch. Due to the limited number of crafts and prizes pre-registration is required for each participant. \nAges: 0-6Cost: FreeRegister on RecLink
URL:https://livableraleigh.com/event/meet-the-bunny-at-abbotts-creek/
LOCATION:Abbotts Creek Community Center\, 9950 Durant Rd\, Raleigh\, NC\, 27614
CATEGORIES:Parks & Rec
END:VEVENT
BEGIN:VEVENT
DTSTART;TZID=America/New_York:20240319T170000
DTEND;TZID=America/New_York:20240319T180000
DTSTAMP:20260423T074351
CREATED:20240224T000554Z
LAST-MODIFIED:20240224T000554Z
UID:36628-1710867600-1710871200@livableraleigh.com
SUMMARY:Find Your Dream Job With Raleigh Parks!
DESCRIPTION:Raleigh Parks is hiring for unique positions across our department! Attend our upcoming job fair to find the perfect fit for you. \nConnect with hiring managers\, enjoy free food and fun\, and be entered to win two free tickets to Dix Park’s Dreamville Festival! \nCost: FreeRSVP Today to Find Your Dream Job \nWork With:Youth ProgramsBefore/After SchoolTeen ProgramsCommunity CentersNatureAquaticsAthleticsInclusionHistoric ResourcesAmusements…and more!
URL:https://livableraleigh.com/event/find-your-dream-job-with-raleigh-parks-2/
LOCATION:Five Points Center for Active Adults\, 2000 Noble Road\, Raleigh\, NC\, 27608\, United States
CATEGORIES:Engagement Filter,Parks & Rec
END:VEVENT
END:VCALENDAR