BEGIN:VCALENDAR
VERSION:2.0
PRODID:-//Livable Raleigh - ECPv6.15.20//NONSGML v1.0//EN
CALSCALE:GREGORIAN
METHOD:PUBLISH
X-WR-CALNAME:Livable Raleigh
X-ORIGINAL-URL:https://livableraleigh.com
X-WR-CALDESC:Events for Livable Raleigh
REFRESH-INTERVAL;VALUE=DURATION:PT1H
X-Robots-Tag:noindex
X-PUBLISHED-TTL:PT1H
BEGIN:VTIMEZONE
TZID:America/New_York
BEGIN:DAYLIGHT
TZOFFSETFROM:-0500
TZOFFSETTO:-0400
TZNAME:EDT
DTSTART:20230312T070000
END:DAYLIGHT
BEGIN:STANDARD
TZOFFSETFROM:-0400
TZOFFSETTO:-0500
TZNAME:EST
DTSTART:20231105T060000
END:STANDARD
BEGIN:DAYLIGHT
TZOFFSETFROM:-0500
TZOFFSETTO:-0400
TZNAME:EDT
DTSTART:20240310T070000
END:DAYLIGHT
BEGIN:STANDARD
TZOFFSETFROM:-0400
TZOFFSETTO:-0500
TZNAME:EST
DTSTART:20241103T060000
END:STANDARD
BEGIN:DAYLIGHT
TZOFFSETFROM:-0500
TZOFFSETTO:-0400
TZNAME:EDT
DTSTART:20250309T070000
END:DAYLIGHT
BEGIN:STANDARD
TZOFFSETFROM:-0400
TZOFFSETTO:-0500
TZNAME:EST
DTSTART:20251102T060000
END:STANDARD
END:VTIMEZONE
BEGIN:VEVENT
DTSTART;TZID=America/New_York:20240308T090000
DTEND;TZID=America/New_York:20240308T163000
DTSTAMP:20260423T015735
CREATED:20240223T235931Z
LAST-MODIFIED:20240223T235931Z
UID:36622-1709888400-1709915400@livableraleigh.com
SUMMARY:Throw it Forward Disc Golf Tournament
DESCRIPTION:It is back and better than ever at Forest Ridge Park! This unsanctioned\, flex-start tournament highlights the park’s 18-hole disc golf course. The tournament will include both recreational and advanced player divisions. Player packs for each player and prizes for each division will be awarded to the top three players! \nTime: 9 a.m. – 4:30 p.m.Cost: $25 per playerRegister on RecLink
URL:https://livableraleigh.com/event/throw-it-forward-disc-golf-tournament/
LOCATION:Forest Ridge Park\, 2100 Old NC 98 HWY\, Wake Forest\, NC\, 27587
CATEGORIES:Parks & Rec
END:VEVENT
BEGIN:VEVENT
DTSTART;TZID=America/New_York:20240308T170000
DTEND;TZID=America/New_York:20240308T200000
DTSTAMP:20260423T015735
CREATED:20240210T011253Z
LAST-MODIFIED:20240210T011253Z
UID:36447-1709917200-1709928000@livableraleigh.com
SUMMARY:End of Winter Family Sock-Hop
DESCRIPTION:Join us in the gym for a super cool dance party the entire family will enjoy!\nActivities will include music\, games and more! Chavis is where it is at! \nAges: AllCost: Free
URL:https://livableraleigh.com/event/end-of-winter-family-sock-hop/
LOCATION:John Chavis Community Center\, 505 Martin Luther King Jr. Blvd.\, Raleigh\, NC\, 27601\, United States
CATEGORIES:Parks & Rec
END:VEVENT
END:VCALENDAR