BEGIN:VCALENDAR
VERSION:2.0
PRODID:-//Livable Raleigh - ECPv6.15.20//NONSGML v1.0//EN
CALSCALE:GREGORIAN
METHOD:PUBLISH
X-ORIGINAL-URL:https://livableraleigh.com
X-WR-CALDESC:Events for Livable Raleigh
REFRESH-INTERVAL;VALUE=DURATION:PT1H
X-Robots-Tag:noindex
X-PUBLISHED-TTL:PT1H
BEGIN:VTIMEZONE
TZID:America/New_York
BEGIN:DAYLIGHT
TZOFFSETFROM:-0500
TZOFFSETTO:-0400
TZNAME:EDT
DTSTART:20230312T070000
END:DAYLIGHT
BEGIN:STANDARD
TZOFFSETFROM:-0400
TZOFFSETTO:-0500
TZNAME:EST
DTSTART:20231105T060000
END:STANDARD
BEGIN:DAYLIGHT
TZOFFSETFROM:-0500
TZOFFSETTO:-0400
TZNAME:EDT
DTSTART:20240310T070000
END:DAYLIGHT
BEGIN:STANDARD
TZOFFSETFROM:-0400
TZOFFSETTO:-0500
TZNAME:EST
DTSTART:20241103T060000
END:STANDARD
BEGIN:DAYLIGHT
TZOFFSETFROM:-0500
TZOFFSETTO:-0400
TZNAME:EDT
DTSTART:20250309T070000
END:DAYLIGHT
BEGIN:STANDARD
TZOFFSETFROM:-0400
TZOFFSETTO:-0500
TZNAME:EST
DTSTART:20251102T060000
END:STANDARD
END:VTIMEZONE
BEGIN:VEVENT
DTSTART;TZID=America/New_York:20240224T110000
DTEND;TZID=America/New_York:20240224T130000
DTSTAMP:20260423T031804
CREATED:20240223T234907Z
LAST-MODIFIED:20240223T234907Z
UID:36615-1708772400-1708779600@livableraleigh.com
SUMMARY:Feathered Friends Feeder Frenzy
DESCRIPTION:Join us for some feathered friends fun!\nDiscover more about the feathered friends who call North Carolina home by navigating through our digital hunt.*Phone with QR scanner needed.   \nMake a free bird feeder to take home and learn more about how you can help our feathered friends.Tip: We will also share how you can make DIY feeders at home too! \nAges: AllCost: Free
URL:https://livableraleigh.com/event/feathered-friends-feeder-frenzy/
LOCATION:Pullen Park Community Center\, 408 Ashe Ave\, Raleigh\, NC\, 27607
CATEGORIES:Parks & Rec
END:VEVENT
END:VCALENDAR