BEGIN:VCALENDAR
VERSION:2.0
PRODID:-//Livable Raleigh - ECPv6.15.20//NONSGML v1.0//EN
CALSCALE:GREGORIAN
METHOD:PUBLISH
X-ORIGINAL-URL:https://livableraleigh.com
X-WR-CALDESC:Events for Livable Raleigh
REFRESH-INTERVAL;VALUE=DURATION:PT1H
X-Robots-Tag:noindex
X-PUBLISHED-TTL:PT1H
BEGIN:VTIMEZONE
TZID:America/New_York
BEGIN:DAYLIGHT
TZOFFSETFROM:-0500
TZOFFSETTO:-0400
TZNAME:EDT
DTSTART:20230312T070000
END:DAYLIGHT
BEGIN:STANDARD
TZOFFSETFROM:-0400
TZOFFSETTO:-0500
TZNAME:EST
DTSTART:20231105T060000
END:STANDARD
BEGIN:DAYLIGHT
TZOFFSETFROM:-0500
TZOFFSETTO:-0400
TZNAME:EDT
DTSTART:20240310T070000
END:DAYLIGHT
BEGIN:STANDARD
TZOFFSETFROM:-0400
TZOFFSETTO:-0500
TZNAME:EST
DTSTART:20241103T060000
END:STANDARD
BEGIN:DAYLIGHT
TZOFFSETFROM:-0500
TZOFFSETTO:-0400
TZNAME:EDT
DTSTART:20250309T070000
END:DAYLIGHT
BEGIN:STANDARD
TZOFFSETFROM:-0400
TZOFFSETTO:-0500
TZNAME:EST
DTSTART:20251102T060000
END:STANDARD
END:VTIMEZONE
BEGIN:VEVENT
DTSTART;TZID=America/New_York:20240214T100000
DTEND;TZID=America/New_York:20240214T113000
DTSTAMP:20260423T031757
CREATED:20240119T154129Z
LAST-MODIFIED:20240119T154129Z
UID:35739-1707904800-1707910200@livableraleigh.com
SUMMARY:Love Bugs: A Program for Preschoolers
DESCRIPTION:R-E-D spells Red!R is for read.E is for exercise.D is for decorate a card for someone special!\nGet your preschooler moving at Barwell Road Community Center on Valentine’s Day with this Love Bugs program. We’ll celebrate the day with Valentine’s stories\, games\, and activities. \nAges: 3-5 (accompanied by an adult)Cost: $3Register on RecLink
URL:https://livableraleigh.com/event/love-bugs-a-program-for-preschoolers/
LOCATION:Barwell Rd Park\, 5857 Barwell Park Drive\, Raleigh\, NC\, 27610
CATEGORIES:Parks & Rec
END:VEVENT
BEGIN:VEVENT
DTSTART;TZID=America/New_York:20240214T133000
DTEND;TZID=America/New_York:20240214T153000
DTSTAMP:20260423T031757
CREATED:20240202T173200Z
LAST-MODIFIED:20240202T173200Z
UID:36130-1707917400-1707924600@livableraleigh.com
SUMMARY:Valentine's Day Dinner
DESCRIPTION:Come celebrate the beauty of love\, laughter\, and friendship while enjoying good food and music. \nReserve your seat now for an unforgettable afternoon. Sponsored by Oak Street Health and the City of Raleigh Active Adults Unit. \nAges: 50+Cost: FreeRegister on RecLink
URL:https://livableraleigh.com/event/valentines-day-dinner/
LOCATION:Five Points Center for Active Adults\, 2000 Noble Road\, Raleigh\, NC\, 27608\, United States
CATEGORIES:Parks & Rec
END:VEVENT
BEGIN:VEVENT
DTSTART;TZID=America/New_York:20240214T190000
DTEND;TZID=America/New_York:20240214T210000
DTSTAMP:20260423T031757
CREATED:20240119T154310Z
LAST-MODIFIED:20240119T154310Z
UID:35741-1707937200-1707944400@livableraleigh.com
SUMMARY:Love Potions
DESCRIPTION:Bring along your sweetheart and soak in the romance!\nEnjoy a selection of themed cocktails as you hear tales of Raleigh’s most famous historic love stories\, as told by Ernest Dollar\, Director of Raleigh Museums. \nAge: 21+Cost: $50 for non-members and $42 for membersGet Tickets
URL:https://livableraleigh.com/event/love-potions/
LOCATION:City of Raleigh Museum\, 220 Fayetteville St\, Raleigh\, NC\, 27601
CATEGORIES:Parks & Rec
END:VEVENT
END:VCALENDAR