BEGIN:VCALENDAR
VERSION:2.0
PRODID:-//Livable Raleigh - ECPv6.15.20//NONSGML v1.0//EN
CALSCALE:GREGORIAN
METHOD:PUBLISH
X-ORIGINAL-URL:https://livableraleigh.com
X-WR-CALDESC:Events for Livable Raleigh
REFRESH-INTERVAL;VALUE=DURATION:PT1H
X-Robots-Tag:noindex
X-PUBLISHED-TTL:PT1H
BEGIN:VTIMEZONE
TZID:America/New_York
BEGIN:DAYLIGHT
TZOFFSETFROM:-0500
TZOFFSETTO:-0400
TZNAME:EDT
DTSTART:20230312T070000
END:DAYLIGHT
BEGIN:STANDARD
TZOFFSETFROM:-0400
TZOFFSETTO:-0500
TZNAME:EST
DTSTART:20231105T060000
END:STANDARD
BEGIN:DAYLIGHT
TZOFFSETFROM:-0500
TZOFFSETTO:-0400
TZNAME:EDT
DTSTART:20240310T070000
END:DAYLIGHT
BEGIN:STANDARD
TZOFFSETFROM:-0400
TZOFFSETTO:-0500
TZNAME:EST
DTSTART:20241103T060000
END:STANDARD
BEGIN:DAYLIGHT
TZOFFSETFROM:-0500
TZOFFSETTO:-0400
TZNAME:EDT
DTSTART:20250309T070000
END:DAYLIGHT
BEGIN:STANDARD
TZOFFSETFROM:-0400
TZOFFSETTO:-0500
TZNAME:EST
DTSTART:20251102T060000
END:STANDARD
END:VTIMEZONE
BEGIN:VEVENT
DTSTART;TZID=America/New_York:20240210T170000
DTEND;TZID=America/New_York:20240210T190000
DTSTAMP:20260423T003641
CREATED:20240119T152708Z
LAST-MODIFIED:20240119T152708Z
UID:35722-1707584400-1707591600@livableraleigh.com
SUMMARY:Engaged to Death: A Murder Mystery
DESCRIPTION:Step into the glitz and glamor of the 1920s at Raleigh’s historic Tucker House where jealousy\, secrets\, and betrayal weave a web of mystery around a groom with more enemies than friends. Unravel the threads of deception at this immersive engagement party\, where everyone’s a suspect and the truth is your greatest challenge!  Engaged to Death features a hilarious cast of Triangle actors and improvisers\, in this whodunnit by local playwright Doug Simpson and directed by Noelle Azarelo. Co-produced by the City of Raleigh\, the event includes food and mocktails\, and patrons are invited to dress in 1920’s attire. \nThroughout the 90-minute show\, patrons will explore the beautiful Tucker House as this zany original story unfolds. The party includes music\, light h’orderves\, and themed mocktails. The audience may (but are not required to) interact with the characters as they mill throughout the house. \nAges: 13+Cost: $70Register on RecLink
URL:https://livableraleigh.com/event/engaged-to-death-a-murder-mystery/
LOCATION:Tucker House\, 418 N Person St\, Raleigh\, NC\, 27601
CATEGORIES:Parks & Rec
END:VEVENT
BEGIN:VEVENT
DTSTART;TZID=America/New_York:20240210T200000
DTEND;TZID=America/New_York:20240210T220000
DTSTAMP:20260423T003641
CREATED:20240119T152837Z
LAST-MODIFIED:20240119T152837Z
UID:35725-1707595200-1707602400@livableraleigh.com
SUMMARY:Engaged to Death: A Murder Mystery
DESCRIPTION:Step into the glitz and glamor of the 1920s at Raleigh’s historic Tucker House where jealousy\, secrets\, and betrayal weave a web of mystery around a groom with more enemies than friends. Unravel the threads of deception at this immersive engagement party\, where everyone’s a suspect and the truth is your greatest challenge!  Engaged to Death features a hilarious cast of Triangle actors and improvisers\, in this whodunnit by local playwright Doug Simpson and directed by Noelle Azarelo. Co-produced by the City of Raleigh\, the event includes food and mocktails\, and patrons are invited to dress in 1920’s attire. \nThroughout the 90-minute show\, patrons will explore the beautiful Tucker House as this zany original story unfolds. The party includes music\, light h’orderves\, and themed mocktails. The audience may (but are not required to) interact with the characters as they mill throughout the house. \nAges: 13+Cost: $70Register on RecLink
URL:https://livableraleigh.com/event/engaged-to-death-a-murder-mystery-2/
LOCATION:Tucker House\, 418 N Person St\, Raleigh\, NC\, 27601
CATEGORIES:Parks & Rec
END:VEVENT
END:VCALENDAR