BEGIN:VCALENDAR
VERSION:2.0
PRODID:-//Livable Raleigh - ECPv6.15.20//NONSGML v1.0//EN
CALSCALE:GREGORIAN
METHOD:PUBLISH
X-ORIGINAL-URL:https://livableraleigh.com
X-WR-CALDESC:Events for Livable Raleigh
REFRESH-INTERVAL;VALUE=DURATION:PT1H
X-Robots-Tag:noindex
X-PUBLISHED-TTL:PT1H
BEGIN:VTIMEZONE
TZID:America/New_York
BEGIN:DAYLIGHT
TZOFFSETFROM:-0500
TZOFFSETTO:-0400
TZNAME:EDT
DTSTART:20230312T070000
END:DAYLIGHT
BEGIN:STANDARD
TZOFFSETFROM:-0400
TZOFFSETTO:-0500
TZNAME:EST
DTSTART:20231105T060000
END:STANDARD
BEGIN:DAYLIGHT
TZOFFSETFROM:-0500
TZOFFSETTO:-0400
TZNAME:EDT
DTSTART:20240310T070000
END:DAYLIGHT
BEGIN:STANDARD
TZOFFSETFROM:-0400
TZOFFSETTO:-0500
TZNAME:EST
DTSTART:20241103T060000
END:STANDARD
BEGIN:DAYLIGHT
TZOFFSETFROM:-0500
TZOFFSETTO:-0400
TZNAME:EDT
DTSTART:20250309T070000
END:DAYLIGHT
BEGIN:STANDARD
TZOFFSETFROM:-0400
TZOFFSETTO:-0500
TZNAME:EST
DTSTART:20251102T060000
END:STANDARD
END:VTIMEZONE
BEGIN:VEVENT
DTSTART;TZID=America/New_York:20240209T180000
DTEND;TZID=America/New_York:20240209T210000
DTSTAMP:20260423T020242
CREATED:20240127T000130Z
LAST-MODIFIED:20240127T000130Z
UID:35978-1707501600-1707512400@livableraleigh.com
SUMMARY:Girls' Galentine Painting Class
DESCRIPTION:Who needs Valentine’s Day when you’re awesome enough as you are?\nJoin us for an elegant and exciting event exclusively for teen and tween girls! Get ready to celebrate friendship and girl power at our Girls’ Galentine gathering. This event is all about having a blast with your besties and making new friends. We have planned an amazing evening filled with painting\, girl chat\, drinks and desserts\, music\, activities\, and surprises that you won’t want to miss! \nAt Girls’ Galentine\, you’ll have the chance to connect with other awesome girls who share your interests and passions. Whether you’re into fashion\, music\, art\, or just having a good time\, there will be something for everyone. Expect lots of laughter\, dancing\, and creating unforgettable memories together. Our event will take place in person\, so you can enjoy the company of your friends and meet new people face to face. \nSo\, grab your besties\, wear your favorite dress\, and get ready for a lovely evening at Girls Galentine! We can’t wait to see you there! \nCost: $10Ages: 10-17Get Tickets for the Girls’ Galentine Painting ClassPaint\, canvases\, brushes\, and aprons are provided\, along with step-by-step instructions. Whatever you paint is yours to keep!Sponsored by the Friends of the City of Raleigh Museum
URL:https://livableraleigh.com/event/girls-galentine-painting-class/
LOCATION:John Greene Park\, 401 Martin Luther King Jr Blvd
CATEGORIES:Parks & Rec
END:VEVENT
END:VCALENDAR