BEGIN:VCALENDAR
VERSION:2.0
PRODID:-//Livable Raleigh - ECPv6.15.20//NONSGML v1.0//EN
CALSCALE:GREGORIAN
METHOD:PUBLISH
X-WR-CALNAME:Livable Raleigh
X-ORIGINAL-URL:https://livableraleigh.com
X-WR-CALDESC:Events for Livable Raleigh
REFRESH-INTERVAL;VALUE=DURATION:PT1H
X-Robots-Tag:noindex
X-PUBLISHED-TTL:PT1H
BEGIN:VTIMEZONE
TZID:America/New_York
BEGIN:DAYLIGHT
TZOFFSETFROM:-0500
TZOFFSETTO:-0400
TZNAME:EDT
DTSTART:20230312T070000
END:DAYLIGHT
BEGIN:STANDARD
TZOFFSETFROM:-0400
TZOFFSETTO:-0500
TZNAME:EST
DTSTART:20231105T060000
END:STANDARD
BEGIN:DAYLIGHT
TZOFFSETFROM:-0500
TZOFFSETTO:-0400
TZNAME:EDT
DTSTART:20240310T070000
END:DAYLIGHT
BEGIN:STANDARD
TZOFFSETFROM:-0400
TZOFFSETTO:-0500
TZNAME:EST
DTSTART:20241103T060000
END:STANDARD
BEGIN:DAYLIGHT
TZOFFSETFROM:-0500
TZOFFSETTO:-0400
TZNAME:EDT
DTSTART:20250309T070000
END:DAYLIGHT
BEGIN:STANDARD
TZOFFSETFROM:-0400
TZOFFSETTO:-0500
TZNAME:EST
DTSTART:20251102T060000
END:STANDARD
END:VTIMEZONE
BEGIN:VEVENT
DTSTART;TZID=America/New_York:20240106T110000
DTEND;TZID=America/New_York:20240106T120000
DTSTAMP:20260423T015542
CREATED:20231202T025439Z
LAST-MODIFIED:20231202T025439Z
UID:34642-1704538800-1704542400@livableraleigh.com
SUMMARY:Emancipation Day Trolley Tours
DESCRIPTION:Back by popular demand\, author and local historian Carmen Wimberly Cauthen will be doing her trolley tour of Historic Black Neighborhoods for Emancipation Day! Join Cauthen to explore some of Raleigh’s Historic Black Neighborhoods. The tour will start at the John P “Top” Greene Community Center (401 Martin Luther King Jr Blvd). \nAges: AllCost: Adults $10\, Children $4Register on RecLink
URL:https://livableraleigh.com/event/emancipation-day-trolley-tours-2/
LOCATION:John Greene Park\, 401 Martin Luther King Jr Blvd
CATEGORIES:Parks & Rec
END:VEVENT
BEGIN:VEVENT
DTSTART;TZID=America/New_York:20240106T110000
DTEND;TZID=America/New_York:20240106T160000
DTSTAMP:20260423T015542
CREATED:20231215T132259Z
LAST-MODIFIED:20231215T132259Z
UID:34942-1704538800-1704556800@livableraleigh.com
SUMMARY:Slavery to Freedom
DESCRIPTION:Slavery to Freedom: 35th US Colored Infantry Regiment Encampment\nThe mission of the 35th USCT reenactors based out of Tryon Palace in New Bern\, NC\, is to educate people on the larger role that African Americans played during the Civil War. Travel back in time to see the 35th USCT as they tell stories of real-life Black soldiers and their lives in the camp and the front lines. \nAges: AllCost: Free
URL:https://livableraleigh.com/event/slavery-to-freedom/
LOCATION:Slavery to Freedom\, 401 Martin Luther King Jr. Blvd\, Raleigh\, NC\, 27601
CATEGORIES:Parks & Rec
END:VEVENT
END:VCALENDAR