BEGIN:VCALENDAR
VERSION:2.0
PRODID:-//Livable Raleigh - ECPv6.15.20//NONSGML v1.0//EN
CALSCALE:GREGORIAN
METHOD:PUBLISH
X-WR-CALNAME:Livable Raleigh
X-ORIGINAL-URL:https://livableraleigh.com
X-WR-CALDESC:Events for Livable Raleigh
REFRESH-INTERVAL;VALUE=DURATION:PT1H
X-Robots-Tag:noindex
X-PUBLISHED-TTL:PT1H
BEGIN:VTIMEZONE
TZID:America/New_York
BEGIN:DAYLIGHT
TZOFFSETFROM:-0500
TZOFFSETTO:-0400
TZNAME:EDT
DTSTART:20230312T070000
END:DAYLIGHT
BEGIN:STANDARD
TZOFFSETFROM:-0400
TZOFFSETTO:-0500
TZNAME:EST
DTSTART:20231105T060000
END:STANDARD
BEGIN:DAYLIGHT
TZOFFSETFROM:-0500
TZOFFSETTO:-0400
TZNAME:EDT
DTSTART:20240310T070000
END:DAYLIGHT
BEGIN:STANDARD
TZOFFSETFROM:-0400
TZOFFSETTO:-0500
TZNAME:EST
DTSTART:20241103T060000
END:STANDARD
BEGIN:DAYLIGHT
TZOFFSETFROM:-0500
TZOFFSETTO:-0400
TZNAME:EDT
DTSTART:20250309T070000
END:DAYLIGHT
BEGIN:STANDARD
TZOFFSETFROM:-0400
TZOFFSETTO:-0500
TZNAME:EST
DTSTART:20251102T060000
END:STANDARD
END:VTIMEZONE
BEGIN:VEVENT
DTSTART;TZID=America/New_York:20240104T100000
DTEND;TZID=America/New_York:20240104T110000
DTSTAMP:20260423T031500
CREATED:20231216T184544Z
LAST-MODIFIED:20231216T184544Z
UID:35019-1704362400-1704366000@livableraleigh.com
SUMMARY:Storytime with the Popes
DESCRIPTION:Get ready to groove\, sing\, and learn!\nJoin our storyteller Patty Cake as she weaves imagery and songs to tell the story of black emancipation and determination. \nAges: AllCost: Free
URL:https://livableraleigh.com/event/storytime-with-the-popes/
LOCATION:Pope House Museum\, 511 S Wilmington Street\, Raleigh\, NC\, 27601
CATEGORIES:Parks & Rec
END:VEVENT
BEGIN:VEVENT
DTSTART;TZID=America/New_York:20240104T180000
DTEND;TZID=America/New_York:20240104T190000
DTSTAMP:20260423T031500
CREATED:20231202T024941Z
LAST-MODIFIED:20231202T024941Z
UID:34638-1704391200-1704394800@livableraleigh.com
SUMMARY:Parks Committee
DESCRIPTION:The committee is responsible for the study of issues related to park facilities\, features\, developments\, and modifications. The committee prepares recommendations and proposals for the Parks\, Recreation and Greenway Advisory Board based on in-depth review and study of park-related issues and concerns. \nThe Parks Committee a standing committee of the Parks\, Recreation and Greenway Advisory Board will meet in the Raleigh Municipal Building\, 222 W. Hargett Street\, Conference Room 303 at 6:00 pm.
URL:https://livableraleigh.com/event/parks-committee-10/
LOCATION:Raleigh Municipal Building\, 222 W. Hargett St.\, Raleigh\, NC\, 27601\, United States
CATEGORIES:Boards and Commissions,Open Houses and Public Hearings,Parks & Rec
END:VEVENT
END:VCALENDAR