BEGIN:VCALENDAR
VERSION:2.0
PRODID:-//Livable Raleigh - ECPv6.15.20//NONSGML v1.0//EN
CALSCALE:GREGORIAN
METHOD:PUBLISH
X-WR-CALNAME:Livable Raleigh
X-ORIGINAL-URL:https://livableraleigh.com
X-WR-CALDESC:Events for Livable Raleigh
REFRESH-INTERVAL;VALUE=DURATION:PT1H
X-Robots-Tag:noindex
X-PUBLISHED-TTL:PT1H
BEGIN:VTIMEZONE
TZID:America/New_York
BEGIN:DAYLIGHT
TZOFFSETFROM:-0500
TZOFFSETTO:-0400
TZNAME:EDT
DTSTART:20220313T070000
END:DAYLIGHT
BEGIN:STANDARD
TZOFFSETFROM:-0400
TZOFFSETTO:-0500
TZNAME:EST
DTSTART:20221106T060000
END:STANDARD
BEGIN:DAYLIGHT
TZOFFSETFROM:-0500
TZOFFSETTO:-0400
TZNAME:EDT
DTSTART:20230312T070000
END:DAYLIGHT
BEGIN:STANDARD
TZOFFSETFROM:-0400
TZOFFSETTO:-0500
TZNAME:EST
DTSTART:20231105T060000
END:STANDARD
BEGIN:DAYLIGHT
TZOFFSETFROM:-0500
TZOFFSETTO:-0400
TZNAME:EDT
DTSTART:20240310T070000
END:DAYLIGHT
BEGIN:STANDARD
TZOFFSETFROM:-0400
TZOFFSETTO:-0500
TZNAME:EST
DTSTART:20241103T060000
END:STANDARD
END:VTIMEZONE
BEGIN:VEVENT
DTSTART;TZID=America/New_York:20231218T130000
DTEND;TZID=America/New_York:20231218T170000
DTSTAMP:20260423T073336
CREATED:20231208T000517Z
LAST-MODIFIED:20231208T000517Z
UID:34782-1702904400-1702918800@livableraleigh.com
SUMMARY:Candy Cane Jingle Mingle
DESCRIPTION:Get ready for a festive adventure that will have you jingling all the way!\nIt’s the Candy Cane Hunt Jingle Mingle. There will be crafts\, games\, smores\, music and fun as we get in the spirit of the festive season! \nAges: 1.5-10 yearsCost: $5Register on RecLink
URL:https://livableraleigh.com/event/candy-cane-jingle-mingle/
LOCATION:Optimist Park Community Center\, 5900 Whittier Drive\, Raleigh\, 27609
CATEGORIES:Parks & Rec
END:VEVENT
END:VCALENDAR