BEGIN:VCALENDAR
VERSION:2.0
PRODID:-//Livable Raleigh - ECPv6.15.20//NONSGML v1.0//EN
CALSCALE:GREGORIAN
METHOD:PUBLISH
X-WR-CALNAME:Livable Raleigh
X-ORIGINAL-URL:https://livableraleigh.com
X-WR-CALDESC:Events for Livable Raleigh
REFRESH-INTERVAL;VALUE=DURATION:PT1H
X-Robots-Tag:noindex
X-PUBLISHED-TTL:PT1H
BEGIN:VTIMEZONE
TZID:America/New_York
BEGIN:DAYLIGHT
TZOFFSETFROM:-0500
TZOFFSETTO:-0400
TZNAME:EDT
DTSTART:20220313T070000
END:DAYLIGHT
BEGIN:STANDARD
TZOFFSETFROM:-0400
TZOFFSETTO:-0500
TZNAME:EST
DTSTART:20221106T060000
END:STANDARD
BEGIN:DAYLIGHT
TZOFFSETFROM:-0500
TZOFFSETTO:-0400
TZNAME:EDT
DTSTART:20230312T070000
END:DAYLIGHT
BEGIN:STANDARD
TZOFFSETFROM:-0400
TZOFFSETTO:-0500
TZNAME:EST
DTSTART:20231105T060000
END:STANDARD
BEGIN:DAYLIGHT
TZOFFSETFROM:-0500
TZOFFSETTO:-0400
TZNAME:EDT
DTSTART:20240310T070000
END:DAYLIGHT
BEGIN:STANDARD
TZOFFSETFROM:-0400
TZOFFSETTO:-0500
TZNAME:EST
DTSTART:20241103T060000
END:STANDARD
END:VTIMEZONE
BEGIN:VEVENT
DTSTART;TZID=America/New_York:20231215T170000
DTEND;TZID=America/New_York:20231215T193000
DTSTAMP:20260423T060616
CREATED:20231124T133823Z
LAST-MODIFIED:20231124T133823Z
UID:34528-1702659600-1702668600@livableraleigh.com
SUMMARY:Selfies with Santa
DESCRIPTION:Jingle bells\, jingle bells\, jingle all the way to Barwell Road Community Center for your personal Selfie with Santa. \nThe Property Shop Realty group in partnership with Barwell Road Community Center staff and volunteers will be offering families a time to take a photo with Santa\, create gifts for family and friends\, and play some reindeer games. \nAges: 12 and younger with adultCost: Free – Please bring a hat or pair of mittens to donate to Barwell Road Elementary School children.
URL:https://livableraleigh.com/event/selfies-with-santa/
LOCATION:Barwell Road Community Center\, 5857 Barwell Park Dr\, Raleigh\, NC\, 27610\, United States
CATEGORIES:Parks & Rec
END:VEVENT
BEGIN:VEVENT
DTSTART;TZID=America/New_York:20231215T173000
DTEND;TZID=America/New_York:20231215T210000
DTSTAMP:20260423T060616
CREATED:20231103T001244Z
LAST-MODIFIED:20231103T001244Z
UID:33943-1702661400-1702674000@livableraleigh.com
SUMMARY:Soulful Holiday Open House
DESCRIPTION:Let’s bring soul and good times to John Chavis Memorial Park and celebrate the holidays with joy and laughter. \nFestive\, jolly\, and bright activities will be spread throughout the center for the whole family to enjoy. \nAges: AllCost: Free
URL:https://livableraleigh.com/event/soulful-holiday-open-house/
LOCATION:John Chavis Community Center\, 505 Martin Luther King Jr. Blvd.\, Raleigh\, NC\, 27601\, United States
CATEGORIES:Parks & Rec
END:VEVENT
BEGIN:VEVENT
DTSTART;TZID=America/New_York:20231215T180000
DTEND;TZID=America/New_York:20231215T193000
DTSTAMP:20260423T060616
CREATED:20231124T133946Z
LAST-MODIFIED:20231124T133946Z
UID:34530-1702663200-1702668600@livableraleigh.com
SUMMARY:Gingerbread Showdown
DESCRIPTION:Candy! Frosting! Imagination!\nCelebrate the season by designing your very own gingerbread house using graham crackers\, frosting and of course\, CANDY! Bring your family and compete with other families for a chance to be crowned the Supreme Gingerbread Jam. \nThe price is per family. One gingerbread house will be supplied for each registration\, register separately if you desire additional houses. \nCost: $20 per Gingerbread HouseAges: AllRegister on RecLink
URL:https://livableraleigh.com/event/gingerbread-showdown/
LOCATION:Greystone Recreation Center\, 7713-55 Lead Mine Road\, Raleigh\, NC\, 27615
CATEGORIES:Parks & Rec
END:VEVENT
BEGIN:VEVENT
DTSTART;TZID=America/New_York:20231215T180000
DTEND;TZID=America/New_York:20231215T193000
DTSTAMP:20260423T060616
CREATED:20231130T022907Z
LAST-MODIFIED:20231130T022907Z
UID:34601-1702663200-1702668600@livableraleigh.com
SUMMARY:Raleigh Music Collective Winter Showcase
DESCRIPTION:You are invited to the Raleigh Music Collective’s Winter Showcase\, featuring Peach Road Strings Students performing music from Hot Cross Buns to Piazzola! \nCome out and help us celebrate the hard work and talent of these up-and-coming musicians\, and enjoy a night of fun\, entertainment\, and community. \nThe Raleigh Music Collective desires to serve all people.  If you have any accommodation needs to access our program\, please do not hesitate to reach out to us. \nAges: AllCost: Free
URL:https://livableraleigh.com/event/raleigh-music-collective-winter-showcase/
LOCATION:All Faith’s Chapel at Dix Park\, 1030 Richardson Drive\, Raleigh\, NC\, 27603
CATEGORIES:Parks & Rec
END:VEVENT
END:VCALENDAR