BEGIN:VCALENDAR
VERSION:2.0
PRODID:-//Livable Raleigh - ECPv6.15.20//NONSGML v1.0//EN
CALSCALE:GREGORIAN
METHOD:PUBLISH
X-WR-CALNAME:Livable Raleigh
X-ORIGINAL-URL:https://livableraleigh.com
X-WR-CALDESC:Events for Livable Raleigh
REFRESH-INTERVAL;VALUE=DURATION:PT1H
X-Robots-Tag:noindex
X-PUBLISHED-TTL:PT1H
BEGIN:VTIMEZONE
TZID:America/New_York
BEGIN:DAYLIGHT
TZOFFSETFROM:-0500
TZOFFSETTO:-0400
TZNAME:EDT
DTSTART:20220313T070000
END:DAYLIGHT
BEGIN:STANDARD
TZOFFSETFROM:-0400
TZOFFSETTO:-0500
TZNAME:EST
DTSTART:20221106T060000
END:STANDARD
BEGIN:DAYLIGHT
TZOFFSETFROM:-0500
TZOFFSETTO:-0400
TZNAME:EDT
DTSTART:20230312T070000
END:DAYLIGHT
BEGIN:STANDARD
TZOFFSETFROM:-0400
TZOFFSETTO:-0500
TZNAME:EST
DTSTART:20231105T060000
END:STANDARD
BEGIN:DAYLIGHT
TZOFFSETFROM:-0500
TZOFFSETTO:-0400
TZNAME:EDT
DTSTART:20240310T070000
END:DAYLIGHT
BEGIN:STANDARD
TZOFFSETFROM:-0400
TZOFFSETTO:-0500
TZNAME:EST
DTSTART:20241103T060000
END:STANDARD
END:VTIMEZONE
BEGIN:VEVENT
DTSTART;TZID=America/New_York:20231214T150000
DTEND;TZID=America/New_York:20231214T180000
DTSTAMP:20260423T060617
CREATED:20231124T133530Z
LAST-MODIFIED:20231124T133530Z
UID:34524-1702566000-1702576800@livableraleigh.com
SUMMARY:Snowball Extravaganza
DESCRIPTION:Come out for an afternoon of snowy fun!\nThere will be a snowman egg hunt\, snowball games\, crafts and more. Please pre-register all who plan to attend. \nAges: AllCost: FreeRegister on RecLink
URL:https://livableraleigh.com/event/snowball-extravaganza/
LOCATION:Pullen Park Community Center\, 408 Ashe Ave\, Raleigh\, NC\, 27607
CATEGORIES:Parks & Rec
END:VEVENT
BEGIN:VEVENT
DTSTART;TZID=America/New_York:20231214T180000
DTEND;TZID=America/New_York:20231214T190000
DTSTAMP:20260423T060617
CREATED:20231111T151158Z
LAST-MODIFIED:20231212T110406Z
UID:34240-1702576800-1702580400@livableraleigh.com
SUMMARY:Parks\, Recreation\, and Greenway Advisory Board
DESCRIPTION:1. Call to Order\n\n\n\n2. General Public Requests and Comments – (Please limit comments to 3 minutes)\n\n\n2.1 We invite each person wishing to speak before the Parks\, Recreation\, and Greenway Advisory Board to stand at the podium\, state your name and address\, and make your statement. Your information will be received and either placed on the next agenda\, forwarded to a subcommittee\, forwarded to the Raleigh City Council\, referred to the Raleigh Parks and Recreation Director\, or received as information.\n\n\n\n\n\n\n3. Committee Report – Liaison Representative\n\n\n3.1 Raleigh Youth Council (RYC)\n\n\n\n\n\n\n4. Directors Report\n\n\n4.1 Director\n\n\n\n\n\n\n5. Committee Reports – Standing Committees\n\n\n5.1 Parks Committee – No Report\n\n\n5.2 Fred Fletcher Volunteer Committee\n\n\n5.3 Greenways Committee – No Report\n\n\n5.4 Sustainability\, Wildlife and Urban Trees Committee – No Report\n\n\n\n\n\n\n6. Committee Reports – Liaison Representatives\n\n\n6.1 Arts Commission and PADB\n\n\n6.2 Bicycle & Pedestrian Advisory Commission\n\n\n6.3 City of Raleigh Historic Cemeteries Advisory Board\n\n\n6.4 Dix Leadership Committee\n\n\n6.5 Historic Resources and Museum Advisory Board\n\n\n6.6 PRCR Parks Bond Community Engagement Liaison Reports\nThis Agenda Item Contains an Attachment.\n\n\n\n\n\n7. Chair Report/Announcements\n\n\n7.1 Chair\n\n\n\n\n\n\n8. Board Comments or Topics for Discussion\n\n\n\n9. Adjournment\n\n\n9.1 Adjourn Meeting\n\n\n\nThe Parks\, Recreation and Greenway Advisory Board (PRGAB) will meet in-person in the Raleigh Council Chambers\, 222 W. Hargett Street at 6:00 p.m. \nThe Raleigh Parks\, Recreation\, and Greenway Advisory Board meetings are open to the public. \nThis meeting will be streamed for public viewing – watch meeting.
URL:https://livableraleigh.com/event/parks-recreation-and-greenway-advisory-board-3/
LOCATION:Greg Poole\, Jr. All Faiths Chapel\, 1030 Richardson Dr\, Raleigh\, NC\, 27603
CATEGORIES:Greenway Committee,Parks & Rec
END:VEVENT
BEGIN:VEVENT
DTSTART;TZID=America/New_York:20231214T180000
DTEND;TZID=America/New_York:20231214T190000
DTSTAMP:20260423T060617
CREATED:20231124T133658Z
LAST-MODIFIED:20231124T133658Z
UID:34526-1702576800-1702580400@livableraleigh.com
SUMMARY:Cocoa and Crafts at Abbotts Creek
DESCRIPTION:Come out to Abbotts Creek to see our new light display for the holidays!\nWe will have a fun craft for everyone to do as well as some hot cocoa. Pre-registration is required for everyone who wants to come. \nAges: AllCost: FreeRegister on RecLink
URL:https://livableraleigh.com/event/cocoa-and-crafts-at-abbotts-creek/
LOCATION:Abbotts Creek Community Center\, 9950 Durant Rd\, Raleigh\, NC\, 27614
CATEGORIES:Parks & Rec
END:VEVENT
END:VCALENDAR