BEGIN:VCALENDAR
VERSION:2.0
PRODID:-//Livable Raleigh - ECPv6.15.20//NONSGML v1.0//EN
CALSCALE:GREGORIAN
METHOD:PUBLISH
X-ORIGINAL-URL:https://livableraleigh.com
X-WR-CALDESC:Events for Livable Raleigh
REFRESH-INTERVAL;VALUE=DURATION:PT1H
X-Robots-Tag:noindex
X-PUBLISHED-TTL:PT1H
BEGIN:VTIMEZONE
TZID:America/New_York
BEGIN:DAYLIGHT
TZOFFSETFROM:-0500
TZOFFSETTO:-0400
TZNAME:EDT
DTSTART:20220313T070000
END:DAYLIGHT
BEGIN:STANDARD
TZOFFSETFROM:-0400
TZOFFSETTO:-0500
TZNAME:EST
DTSTART:20221106T060000
END:STANDARD
BEGIN:DAYLIGHT
TZOFFSETFROM:-0500
TZOFFSETTO:-0400
TZNAME:EDT
DTSTART:20230312T070000
END:DAYLIGHT
BEGIN:STANDARD
TZOFFSETFROM:-0400
TZOFFSETTO:-0500
TZNAME:EST
DTSTART:20231105T060000
END:STANDARD
BEGIN:DAYLIGHT
TZOFFSETFROM:-0500
TZOFFSETTO:-0400
TZNAME:EDT
DTSTART:20240310T070000
END:DAYLIGHT
BEGIN:STANDARD
TZOFFSETFROM:-0400
TZOFFSETTO:-0500
TZNAME:EST
DTSTART:20241103T060000
END:STANDARD
END:VTIMEZONE
BEGIN:VEVENT
DTSTART;TZID=America/New_York:20231213T100000
DTEND;TZID=America/New_York:20231213T120000
DTSTAMP:20260423T073424
CREATED:20231124T133406Z
LAST-MODIFIED:20231124T133406Z
UID:34521-1702461600-1702468800@livableraleigh.com
SUMMARY:Fiesta de Temporada
DESCRIPTION:Please join Raleigh Parks for a celebration of the holiday season.\nGet into the holiday spirit with music\, dancing\, games\, crafts\, and much more. Refreshments will be provided. Holiday attire is encouraged. Parking is limited. For parking options please ask at the time of registration. \nTo Register contact Luis Olivieri-Robert at 919-996-5714\, luis.olivierirobert@raleighnc.gov \nAges: 50+Cost: FreeRegister Today
URL:https://livableraleigh.com/event/fiesta-de-temporada/
LOCATION:Lake Johnson Park\, 4601 Avent Ferry Road\, Raleigh\, NC\, 27606
CATEGORIES:Parks & Rec
END:VEVENT
END:VCALENDAR