BEGIN:VCALENDAR
VERSION:2.0
PRODID:-//Livable Raleigh - ECPv6.15.20//NONSGML v1.0//EN
CALSCALE:GREGORIAN
METHOD:PUBLISH
X-ORIGINAL-URL:https://livableraleigh.com
X-WR-CALDESC:Events for Livable Raleigh
REFRESH-INTERVAL;VALUE=DURATION:PT1H
X-Robots-Tag:noindex
X-PUBLISHED-TTL:PT1H
BEGIN:VTIMEZONE
TZID:America/New_York
BEGIN:DAYLIGHT
TZOFFSETFROM:-0500
TZOFFSETTO:-0400
TZNAME:EDT
DTSTART:20220313T070000
END:DAYLIGHT
BEGIN:STANDARD
TZOFFSETFROM:-0400
TZOFFSETTO:-0500
TZNAME:EST
DTSTART:20221106T060000
END:STANDARD
BEGIN:DAYLIGHT
TZOFFSETFROM:-0500
TZOFFSETTO:-0400
TZNAME:EDT
DTSTART:20230312T070000
END:DAYLIGHT
BEGIN:STANDARD
TZOFFSETFROM:-0400
TZOFFSETTO:-0500
TZNAME:EST
DTSTART:20231105T060000
END:STANDARD
BEGIN:DAYLIGHT
TZOFFSETFROM:-0500
TZOFFSETTO:-0400
TZNAME:EDT
DTSTART:20240310T070000
END:DAYLIGHT
BEGIN:STANDARD
TZOFFSETFROM:-0400
TZOFFSETTO:-0500
TZNAME:EST
DTSTART:20241103T060000
END:STANDARD
END:VTIMEZONE
BEGIN:VEVENT
DTSTART;TZID=America/New_York:20231207T180000
DTEND;TZID=America/New_York:20231207T190000
DTSTAMP:20260423T073442
CREATED:20231102T235226Z
LAST-MODIFIED:20231102T235226Z
UID:33921-1701972000-1701975600@livableraleigh.com
SUMMARY:Parks Committee
DESCRIPTION:The committee is responsible for the study of issues related to park facilities\, features\, developments\, and modifications. The committee prepares recommendations and proposals for the Parks\, Recreation and Greenway Advisory Board based on in-depth review and study of park-related issues and concerns. \nThe Parks Committee a standing committee of the Parks\, Recreation and Greenway Advisory Board will meet in the Raleigh Municipal Building\, 222 W. Hargett Street\, Conference Room 303 at 6:00 pm.
URL:https://livableraleigh.com/event/parks-committee-9/
LOCATION:Raleigh Municipal Building\, 222 W. Hargett St.\, Raleigh\, NC\, 27601\, United States
CATEGORIES:Greenway Committee,Parks & Rec
END:VEVENT
BEGIN:VEVENT
DTSTART;TZID=America/New_York:20231207T180000
DTEND;TZID=America/New_York:20231207T230000
DTSTAMP:20260423T073442
CREATED:20231102T235343Z
LAST-MODIFIED:20231102T235343Z
UID:33923-1701972000-1701990000@livableraleigh.com
SUMMARY:City of Raleigh Museum Fundraising Gala - 30th Anniversary
DESCRIPTION:Join us to celebrate 30 years of the City of Raleigh Museum with a fundraising gala! \nThis gala will have a formal dinner\, drinks\, a fashion show\, a silent auction\, presentations\, music\, etc! \nAges:21+Cost: $100Get Tickets for the Gala
URL:https://livableraleigh.com/event/city-of-raleigh-museum-fundraising-gala-30th-anniversary/
LOCATION:City of Raleigh Museum\, 220 Fayetteville St\, Raleigh\, NC\, 27601
CATEGORIES:Parks & Rec
END:VEVENT
END:VCALENDAR