BEGIN:VCALENDAR
VERSION:2.0
PRODID:-//Livable Raleigh - ECPv6.15.20//NONSGML v1.0//EN
CALSCALE:GREGORIAN
METHOD:PUBLISH
X-ORIGINAL-URL:https://livableraleigh.com
X-WR-CALDESC:Events for Livable Raleigh
REFRESH-INTERVAL;VALUE=DURATION:PT1H
X-Robots-Tag:noindex
X-PUBLISHED-TTL:PT1H
BEGIN:VTIMEZONE
TZID:America/New_York
BEGIN:DAYLIGHT
TZOFFSETFROM:-0500
TZOFFSETTO:-0400
TZNAME:EDT
DTSTART:20220313T070000
END:DAYLIGHT
BEGIN:STANDARD
TZOFFSETFROM:-0400
TZOFFSETTO:-0500
TZNAME:EST
DTSTART:20221106T060000
END:STANDARD
BEGIN:DAYLIGHT
TZOFFSETFROM:-0500
TZOFFSETTO:-0400
TZNAME:EDT
DTSTART:20230312T070000
END:DAYLIGHT
BEGIN:STANDARD
TZOFFSETFROM:-0400
TZOFFSETTO:-0500
TZNAME:EST
DTSTART:20231105T060000
END:STANDARD
BEGIN:DAYLIGHT
TZOFFSETFROM:-0500
TZOFFSETTO:-0400
TZNAME:EDT
DTSTART:20240310T070000
END:DAYLIGHT
BEGIN:STANDARD
TZOFFSETFROM:-0400
TZOFFSETTO:-0500
TZNAME:EST
DTSTART:20241103T060000
END:STANDARD
END:VTIMEZONE
BEGIN:VEVENT
DTSTART;TZID=America/New_York:20231201T170000
DTEND;TZID=America/New_York:20231201T200000
DTSTAMP:20260423T003805
CREATED:20231118T044141Z
LAST-MODIFIED:20231118T044141Z
UID:34425-1701450000-1701460800@livableraleigh.com
SUMMARY:Gingerbread Decorating Party
DESCRIPTION:Join us for a “Gingerbread Jam” hosted by DJ Young Fresh Prince with cookie decorating\, music\, and fun! \nJamming activities include a story walk\, crafts and your favorite holiday friends!Ages: AllCost: Free
URL:https://livableraleigh.com/event/gingerbread-decorating-party/
LOCATION:Green Rd Community Center\, 4201 Green Rd\, Raleigh\, NC\, 27604
CATEGORIES:Parks & Rec
END:VEVENT
BEGIN:VEVENT
DTSTART;TZID=America/New_York:20231201T180000
DTEND;TZID=America/New_York:20231201T200000
DTSTAMP:20260423T003805
CREATED:20231124T132707Z
LAST-MODIFIED:20231124T132707Z
UID:34519-1701453600-1701460800@livableraleigh.com
SUMMARY:Frosty Festivities
DESCRIPTION:Join us for a frosty festive family night as we venture to the snowy North Pole.\nWe encourage you to wear your favorite PJs as we enjoy a holiday-themed movie and an intermission filled with hot cocoa\, popcorn\, pizza and more! \nRegistration is required for each individual 3 years old and up. The cost is $12 for each “registered” person\, which includes dinner\, snacks\, and supplies. \nAges: 3 +Cost: $12Register on RecLink
URL:https://livableraleigh.com/event/frosty-festivities/
LOCATION:Greystone Recreation Center\, 7713-55 Lead Mine Road\, Raleigh\, NC\, 27615
CATEGORIES:Parks & Rec
END:VEVENT
BEGIN:VEVENT
DTSTART;TZID=America/New_York:20231201T180000
DTEND;TZID=America/New_York:20231201T210000
DTSTAMP:20260423T003805
CREATED:20231118T044257Z
LAST-MODIFIED:20231118T044257Z
UID:34427-1701453600-1701464400@livableraleigh.com
SUMMARY:Sip n' Shop
DESCRIPTION:Join us at the City of Raleigh Museum to sip on fancy drinks and shop local vendors for your last-minute holiday gifts. \nThere will be live music\, a raffle and tons of fun and shopping. \nAges: All agesCost: Free
URL:https://livableraleigh.com/event/sip-n-shop/
LOCATION:City of Raleigh Museum\, 220 Fayetteville St\, Raleigh\, NC\, 27601
CATEGORIES:Parks & Rec
END:VEVENT
END:VCALENDAR